BEGIN:VCALENDAR
VERSION:2.0
PRODID:-//https://taneycountyrepublicans.org.patriotsaroundthelake.com//NONSGML kigkonsult.se iCalcreator 2.41.71//
CALSCALE:GREGORIAN
METHOD:PUBLISH
UID:30646266-3132-4830-a262-633766646233
X-WR-CALNAME:JCal Pro Calendar
X-WR-CALDESC:Your online events calendar
X-WR-TIMEZONE:America/Chicago
BEGIN:VTIMEZONE
TZID:America/Chicago
TZUNTIL:20271107T070000Z
BEGIN:STANDARD
TZNAME:CST
DTSTART:20251102T020000
TZOFFSETFROM:-0500
TZOFFSETTO:-0600
RDATE:20261101T020000
END:STANDARD
BEGIN:DAYLIGHT
TZNAME:CDT
DTSTART:20260308T020000
TZOFFSETFROM:-0600
TZOFFSETTO:-0500
RDATE:20270314T020000
END:DAYLIGHT
END:VTIMEZONE
BEGIN:VEVENT
UID:20250613T120000UTC-51795LMuo7@https://taneycountyrepublicans.org/
DTSTAMP:20260424T205608Z
CATEGORIES:This Day in Missouri
DESCRIPTION:<p><span style='font-family: arial\, helvetica\, sans-serif\; f
 ont-size: 12pt\; color: #000000\;'>On June 13\, the following notable hist
 orical events related to Missouri have been recorded:</span></p>\n<ul>\n<l
 i><span style='font-family: arial\, helvetica\, sans-serif\; font-size: 12
 pt\; color: #000000\;'>1804: The Lewis and Clark Expedition was in the St.
  Louis area on or around June 13\, completing final preparations for their
  journey up the Missouri River to explore the Louisiana Purchase. They wer
 e finalizing crew and equipment arrangements\, reinforcing Missouri’s role
  as the gateway for western exploration.</span></li>\n<li><span style='fon
 t-family: arial\, helvetica\, sans-serif\; font-size: 12pt\; color: #00000
 0\;'>1820: Missouri’s constitutional convention\, convened in St. Louis\, 
 was actively drafting the state’s first constitution around June 13. This 
 was a crucial step toward Missouri’s admission as a state in 1821\, amidst
  national debates over slavery tied to the Missouri Compromise.</span></li
 >\n<li><span style='font-family: arial\, helvetica\, sans-serif\; font-siz
 e: 12pt\; color: #000000\;'>1861: During the Civil War\, Missouri was a ho
 tbed of conflict. On June 13\, Union General Nathaniel Lyon was preparing 
 to move on Jefferson City after the failed St. Louis Conference\, with Uni
 on forces mobilizing to secure the state capital and counter Confederate s
 ympathizers.</span></li>\n<li><span style='font-family: arial\, helvetica\
 , sans-serif\; font-size: 12pt\; color: #000000\;'>1870: The Kansas City S
 tockyards began significant expansions around June 13\, solidifying Kansas
  City’s role as a major livestock trading hub and boosting Missouri’s agri
 cultural economy.</span></li>\n<li><span style='font-family: arial\, helve
 tica\, sans-serif\; font-size: 12pt\; color: #000000\;'>1904: The St. Loui
 s World’s Fair\, or Louisiana Purchase Exposition\, was underway\, with Ju
 ne 13 featuring early international cultural exhibits and technological di
 splays\, highlighting Missouri’s prominence as a global hub.</span></li>\n
 <li><span style='font-family: arial\, helvetica\, sans-serif\; font-size: 
 12pt\; color: #000000\;'>1964: The St. Louis Cardinals played a notable ga
 me against the Chicago Cubs at Busch Stadium on June 13\, with Lou Brock\,
  recently traded to the team\, making his debut and stealing a base\, mark
 ing the start of his legendary career with the Cardinals and reinforcing M
 issouri’s baseball legacy.</span></li>\n</ul>
DTSTART;TZID=America/Chicago:20250613T000000
DTEND;TZID=America/Chicago:20250613T235959
RRULE:FREQ=YEARLY;COUNT=3;INTERVAL=1
SUMMARY:June 13th This Day in Missouri
URL:https://taneycountyrepublicans.org.patriotsaroundthelake.com/odds-n-end
 s/this-week-in-missouri/24-this-day-in-missouri/1795-june-13th-this-day-in
 -missouri.html
X-ALT-DESC;FMTTYPE=TEXT/HTML:<p><span style='font-family: arial\, helvetica
 \, sans-serif\; font-size: 12pt\; color: #000000\;'>On June 13\, the follo
 wing notable historical events related to Missouri have been recorded:</sp
 an></p>\n<ul>\n<li><span style='font-family: arial\, helvetica\, sans-seri
 f\; font-size: 12pt\; color: #000000\;'>1804: The Lewis and Clark Expediti
 on was in the St. Louis area on or around June 13\, completing final prepa
 rations for their journey up the Missouri River to explore the Louisiana P
 urchase. They were finalizing crew and equipment arrangements\, reinforcin
 g Missouri’s role as the gateway for western exploration.</span></li>\n<li
 ><span style='font-family: arial\, helvetica\, sans-serif\; font-size: 12p
 t\; color: #000000\;'>1820: Missouri’s constitutional convention\, convene
 d in St. Louis\, was actively drafting the state’s first constitution arou
 nd June 13. This was a crucial step toward Missouri’s admission as a state
  in 1821\, amidst national debates over slavery tied to the Missouri Compr
 omise.</span></li>\n<li><span style='font-family: arial\, helvetica\, sans
 -serif\; font-size: 12pt\; color: #000000\;'>1861: During the Civil War\, 
 Missouri was a hotbed of conflict. On June 13\, Union General Nathaniel Ly
 on was preparing to move on Jefferson City after the failed St. Louis Conf
 erence\, with Union forces mobilizing to secure the state capital and coun
 ter Confederate sympathizers.</span></li>\n<li><span style='font-family: a
 rial\, helvetica\, sans-serif\; font-size: 12pt\; color: #000000\;'>1870: 
 The Kansas City Stockyards began significant expansions around June 13\, s
 olidifying Kansas City’s role as a major livestock trading hub and boostin
 g Missouri’s agricultural economy.</span></li>\n<li><span style='font-fami
 ly: arial\, helvetica\, sans-serif\; font-size: 12pt\; color: #000000\;'>1
 904: The St. Louis World’s Fair\, or Louisiana Purchase Exposition\, was u
 nderway\, with June 13 featuring early international cultural exhibits and
  technological displays\, highlighting Missouri’s prominence as a global h
 ub.</span></li>\n<li><span style='font-family: arial\, helvetica\, sans-se
 rif\; font-size: 12pt\; color: #000000\;'>1964: The St. Louis Cardinals pl
 ayed a notable game against the Chicago Cubs at Busch Stadium on June 13\,
  with Lou Brock\, recently traded to the team\, making his debut and steal
 ing a base\, marking the start of his legendary career with the Cardinals 
 and reinforcing Missouri’s baseball legacy.</span></li>\n</ul>
END:VEVENT
BEGIN:VEVENT
UID:20250614T000000UTC-6016e4eldp@https://taneycountyrepublicans.org/
DTSTAMP:20260424T205608Z
CATEGORIES:This Day in Missouri
DESCRIPTION:<p><span style='font-family: arial\, helvetica\, sans-serif\; f
 ont-size: 12pt\; color: #000000\;'>On June 14\, the following notable hist
 orical events related to Missouri have been recorded:</span></p>\n<ul>\n<l
 i><span style='font-family: arial\, helvetica\, sans-serif\; font-size: 12
 pt\; color: #000000\;'>1804: The Lewis and Clark Expedition was in the St.
  Louis area on or around June 14\, finalizing preparations for their journ
 ey up the Missouri River to explore the Louisiana Purchase. They were secu
 ring final supplies and coordinating with local traders\, reinforcing Miss
 ouri’s role as the launch point for western exploration.</span></li>\n<li>
 <span style='font-family: arial\, helvetica\, sans-serif\; font-size: 12pt
 \; color: #000000\;'>1820: Missouri’s constitutional convention\, convened
  in St. Louis\, was actively drafting the state’s first constitution aroun
 d June 14. This was a critical step toward Missouri’s admission as a state
  in 1821\, amidst national debates over slavery tied to the Missouri Compr
 omise.</span></li>\n<li><span style='font-family: arial\, helvetica\, sans
 -serif\; font-size: 12pt\; color: #000000\;'>1861: During the Civil War\, 
 Missouri was a focal point of conflict. On June 14\, Union General Nathani
 el Lyon was mobilizing forces toward Jefferson City after the failed St. L
 ouis Conference\, preparing to capture the state capital to secure Missour
 i for the Union against Confederate sympathizers.</span></li>\n<li><span s
 tyle='font-family: arial\, helvetica\, sans-serif\; font-size: 12pt\; colo
 r: #000000\;'>1876: The St. Louis-based Missouri Botanical Garden\, founde
 d by Henry Shaw\, hosted a significant public exhibition around June 14\, 
 showcasing rare tropical plants and reinforcing its reputation as a leadin
 g botanical research center.</span></li>\n<li><span style='font-family: ar
 ial\, helvetica\, sans-serif\; font-size: 12pt\; color: #000000\;'>1904: T
 he St. Louis World’s Fair\, or Louisiana Purchase Exposition\, was underwa
 y\, with June 14 featuring early international scientific exhibits and cul
 tural performances\, highlighting Missouri’s prominence as a global hub.</
 span></li>\n<li><span style='font-family: arial\, helvetica\, sans-serif\;
  font-size: 12pt\; color: #000000\;'>1967: The St. Louis Cardinals played 
 a notable game against the New York Mets at Busch Stadium on June 14\, wit
 h Bob Gibson pitching a shutout and Orlando Cepeda hitting a key home run\
 , contributing to their World Series-winning season and reinforcing Missou
 ri’s baseball legacy.</span></li>\n</ul>
DTSTART;TZID=America/Chicago:20250614T000000
DTEND;TZID=America/Chicago:20250614T235959
RRULE:FREQ=YEARLY;COUNT=3;INTERVAL=1
SUMMARY:June 14th This Day in Missouri
URL:https://taneycountyrepublicans.org.patriotsaroundthelake.com/odds-n-end
 s/this-week-in-missouri/24-this-day-in-missouri/1798-june-14th-this-day-in
 -missouri.html
X-ALT-DESC;FMTTYPE=TEXT/HTML:<p><span style='font-family: arial\, helvetica
 \, sans-serif\; font-size: 12pt\; color: #000000\;'>On June 14\, the follo
 wing notable historical events related to Missouri have been recorded:</sp
 an></p>\n<ul>\n<li><span style='font-family: arial\, helvetica\, sans-seri
 f\; font-size: 12pt\; color: #000000\;'>1804: The Lewis and Clark Expediti
 on was in the St. Louis area on or around June 14\, finalizing preparation
 s for their journey up the Missouri River to explore the Louisiana Purchas
 e. They were securing final supplies and coordinating with local traders\,
  reinforcing Missouri’s role as the launch point for western exploration.<
 /span></li>\n<li><span style='font-family: arial\, helvetica\, sans-serif\
 ; font-size: 12pt\; color: #000000\;'>1820: Missouri’s constitutional conv
 ention\, convened in St. Louis\, was actively drafting the state’s first c
 onstitution around June 14. This was a critical step toward Missouri’s adm
 ission as a state in 1821\, amidst national debates over slavery tied to t
 he Missouri Compromise.</span></li>\n<li><span style='font-family: arial\,
  helvetica\, sans-serif\; font-size: 12pt\; color: #000000\;'>1861: During
  the Civil War\, Missouri was a focal point of conflict. On June 14\, Unio
 n General Nathaniel Lyon was mobilizing forces toward Jefferson City after
  the failed St. Louis Conference\, preparing to capture the state capital 
 to secure Missouri for the Union against Confederate sympathizers.</span><
 /li>\n<li><span style='font-family: arial\, helvetica\, sans-serif\; font-
 size: 12pt\; color: #000000\;'>1876: The St. Louis-based Missouri Botanica
 l Garden\, founded by Henry Shaw\, hosted a significant public exhibition 
 around June 14\, showcasing rare tropical plants and reinforcing its reput
 ation as a leading botanical research center.</span></li>\n<li><span style
 ='font-family: arial\, helvetica\, sans-serif\; font-size: 12pt\; color: #
 000000\;'>1904: The St. Louis World’s Fair\, or Louisiana Purchase Exposit
 ion\, was underway\, with June 14 featuring early international scientific
  exhibits and cultural performances\, highlighting Missouri’s prominence a
 s a global hub.</span></li>\n<li><span style='font-family: arial\, helveti
 ca\, sans-serif\; font-size: 12pt\; color: #000000\;'>1967: The St. Louis 
 Cardinals played a notable game against the New York Mets at Busch Stadium
  on June 14\, with Bob Gibson pitching a shutout and Orlando Cepeda hittin
 g a key home run\, contributing to their World Series-winning season and r
 einforcing Missouri’s baseball legacy.</span></li>\n</ul>
END:VEVENT
BEGIN:VEVENT
UID:20250615T000000UTC-0227DWkZHN@https://taneycountyrepublicans.org/
DTSTAMP:20260424T205608Z
CATEGORIES:This Day in Missouri
DESCRIPTION:<p><span style='font-family: arial\, helvetica\, sans-serif\; f
 ont-size: 12pt\; color: #000000\;'>On June 15\, several notable historical
  events have occurred in Missouri\, based on available records:</span></p>
 \n<ul>\n<li><span style='font-family: arial\, helvetica\, sans-serif\; fon
 t-size: 12pt\; color: #000000\;'>1820: Missouri's first constitutional con
 vention convened in St. Louis to draft a state constitution\, a key step t
 oward Missouri's admission to the Union as a state in 1821.</span></li>\n<
 li><span style='font-family: arial\, helvetica\, sans-serif\; font-size: 1
 2pt\; color: #000000\;'>1861: During the Civil War\, Union General Nathani
 el Lyon captured Jefferson City\, Missouri's capital\, without resistance\
 , securing control of the state government for the Union.</span></li>\n<li
 ><span style='font-family: arial\, helvetica\, sans-serif\; font-size: 12p
 t\; color: #000000\;'>1904: The St. Louis World's Fair\, officially known 
 as the Louisiana Purchase Exposition\, was in full swing on June 15\, show
 casing Missouri's role as a cultural and economic hub. While no specific e
 vent is tied to this exact date\, the fair itself was a significant moment
  in Missouri's history\, drawing millions to St. Louis.</span></li>\n</ul>
DTSTART;TZID=America/Chicago:20250615T000000
DTEND;TZID=America/Chicago:20250615T235959
RRULE:FREQ=YEARLY;COUNT=3;INTERVAL=1
SUMMARY:June 15th This Day in Missouri
URL:https://taneycountyrepublicans.org.patriotsaroundthelake.com/odds-n-end
 s/this-week-in-missouri/24-this-day-in-missouri/1594-june-15th-this-day-in
 -missouri.html
X-ALT-DESC;FMTTYPE=TEXT/HTML:<p><span style='font-family: arial\, helvetica
 \, sans-serif\; font-size: 12pt\; color: #000000\;'>On June 15\, several n
 otable historical events have occurred in Missouri\, based on available re
 cords:</span></p>\n<ul>\n<li><span style='font-family: arial\, helvetica\,
  sans-serif\; font-size: 12pt\; color: #000000\;'>1820: Missouri's first c
 onstitutional convention convened in St. Louis to draft a state constituti
 on\, a key step toward Missouri's admission to the Union as a state in 182
 1.</span></li>\n<li><span style='font-family: arial\, helvetica\, sans-ser
 if\; font-size: 12pt\; color: #000000\;'>1861: During the Civil War\, Unio
 n General Nathaniel Lyon captured Jefferson City\, Missouri's capital\, wi
 thout resistance\, securing control of the state government for the Union.
 </span></li>\n<li><span style='font-family: arial\, helvetica\, sans-serif
 \; font-size: 12pt\; color: #000000\;'>1904: The St. Louis World's Fair\, 
 officially known as the Louisiana Purchase Exposition\, was in full swing 
 on June 15\, showcasing Missouri's role as a cultural and economic hub. Wh
 ile no specific event is tied to this exact date\, the fair itself was a s
 ignificant moment in Missouri's history\, drawing millions to St. Louis.</
 span></li>\n</ul>
END:VEVENT
BEGIN:VEVENT
UID:20250616T080000UTC-6564r1xard@https://taneycountyrepublicans.org/
DTSTAMP:20260424T205608Z
CATEGORIES:This Day in Missouri
DESCRIPTION:<p><span style='color: #000000\; font-family: arial\, helvetica
 \, sans-serif\; font-size: 12pt\;'>On June 16\, several notable historical
  events have occurred in Missouri\, based on available records:</span></p>
 \n<ul>\n<li><span style='color: #000000\; font-family: arial\, helvetica\,
  sans-serif\; font-size: 12pt\;'>1822: The first steamboat\, the Western E
 ngineer\, arrived in St. Joseph\, Missouri. Designed by Henry M. Shreve\, 
 it revolutionized transportation on the Missouri River\, facilitating trad
 e and settlement in the region.</span></li>\n<li><span style='color: #0000
 00\; font-family: arial\, helvetica\, sans-serif\; font-size: 12pt\;'>1933
 : Missouri became the first U.S. state to enact a sales tax\, set at one p
 ercent\, to generate revenue during the Great Depression.</span></li>\n<li
 >\n<p><span style='font-family: arial\, helvetica\, sans-serif\; font-size
 : 12pt\; color: #000000\;'>1967: The Gateway Arch in St. Louis was complet
 ed. Designed by Eero Saarinen\, this 630-foot monument\, the tallest arch 
 in the world\, commemorates St. Louis’ role as the “Gateway to the West.”<
 /span></p>\n</li>\n</ul>
DTSTART;TZID=America/Chicago:20250616T000000
DTEND;TZID=America/Chicago:20250616T235959
RRULE:FREQ=YEARLY;COUNT=3;INTERVAL=1
SUMMARY:June 16th This Day in Missouri
URL:https://taneycountyrepublicans.org.patriotsaroundthelake.com/odds-n-end
 s/this-week-in-missouri/24-this-day-in-missouri/1593-june-16th-this-day-in
 -missouri.html
X-ALT-DESC;FMTTYPE=TEXT/HTML:<p><span style='color: #000000\; font-family: 
 arial\, helvetica\, sans-serif\; font-size: 12pt\;'>On June 16\, several n
 otable historical events have occurred in Missouri\, based on available re
 cords:</span></p>\n<ul>\n<li><span style='color: #000000\; font-family: ar
 ial\, helvetica\, sans-serif\; font-size: 12pt\;'>1822: The first steamboa
 t\, the Western Engineer\, arrived in St. Joseph\, Missouri. Designed by H
 enry M. Shreve\, it revolutionized transportation on the Missouri River\, 
 facilitating trade and settlement in the region.</span></li>\n<li><span st
 yle='color: #000000\; font-family: arial\, helvetica\, sans-serif\; font-s
 ize: 12pt\;'>1933: Missouri became the first U.S. state to enact a sales t
 ax\, set at one percent\, to generate revenue during the Great Depression.
 </span></li>\n<li>\n<p><span style='font-family: arial\, helvetica\, sans-
 serif\; font-size: 12pt\; color: #000000\;'>1967: The Gateway Arch in St. 
 Louis was completed. Designed by Eero Saarinen\, this 630-foot monument\, 
 the tallest arch in the world\, commemorates St. Louis’ role as the “Gatew
 ay to the West.”</span></p>\n</li>\n</ul>
END:VEVENT
BEGIN:VEVENT
UID:20250617T000000UTC-2324Pfgj5s@https://taneycountyrepublicans.org/
DTSTAMP:20260424T205608Z
CATEGORIES:This Day in Missouri
DESCRIPTION:<p><span style='font-family: arial\, helvetica\, sans-serif\; f
 ont-size: 12pt\; color: #000000\;'>On June 17\, the following notable hist
 orical events related to Missouri have been recorded:</span></p>\n<ul>\n<l
 i><span style='font-family: arial\, helvetica\, sans-serif\; font-size: 12
 pt\; color: #000000\;'>1871: The Great Chicago Fire's aftermath indirectly
  impacted Missouri\, as St. Louis became a key supplier of goods and mater
 ials for Chicago's reconstruction. While the fire itself occurred later\, 
 on June 17\, 1871\, St. Louis merchants were already positioning themselve
 s as critical players in regional trade\, a role solidified post-fire.</sp
 an></li>\n<li><span style='font-family: arial\, helvetica\, sans-serif\; f
 ont-size: 12pt\; color: #000000\;'>1969: The St. Louis Cardinals played a 
 significant game at Busch Stadium\, defeating the Pittsburgh Pirates. This
  victory was part of their 1960s dominance\, showcasing St. Louis as a maj
 or sports hub.</span></li>\n</ul>
DTSTART;TZID=America/Chicago:20250617T000000
DTEND;TZID=America/Chicago:20250617T235959
RRULE:FREQ=YEARLY;COUNT=3;INTERVAL=1
SUMMARY:June 17th This Day in Missouri
URL:https://taneycountyrepublicans.org.patriotsaroundthelake.com/odds-n-end
 s/this-week-in-missouri/24-this-day-in-missouri/1599-june-17th-this-day-in
 -missouri.html
X-ALT-DESC;FMTTYPE=TEXT/HTML:<p><span style='font-family: arial\, helvetica
 \, sans-serif\; font-size: 12pt\; color: #000000\;'>On June 17\, the follo
 wing notable historical events related to Missouri have been recorded:</sp
 an></p>\n<ul>\n<li><span style='font-family: arial\, helvetica\, sans-seri
 f\; font-size: 12pt\; color: #000000\;'>1871: The Great Chicago Fire's aft
 ermath indirectly impacted Missouri\, as St. Louis became a key supplier o
 f goods and materials for Chicago's reconstruction. While the fire itself 
 occurred later\, on June 17\, 1871\, St. Louis merchants were already posi
 tioning themselves as critical players in regional trade\, a role solidifi
 ed post-fire.</span></li>\n<li><span style='font-family: arial\, helvetica
 \, sans-serif\; font-size: 12pt\; color: #000000\;'>1969: The St. Louis Ca
 rdinals played a significant game at Busch Stadium\, defeating the Pittsbu
 rgh Pirates. This victory was part of their 1960s dominance\, showcasing S
 t. Louis as a major sports hub.</span></li>\n</ul>
END:VEVENT
BEGIN:VEVENT
UID:20250618T000000UTC-3748hDffEU@https://taneycountyrepublicans.org/
DTSTAMP:20260424T205608Z
CATEGORIES:This Day in Missouri
DESCRIPTION:<p><span style='font-family: arial\, helvetica\, sans-serif\; f
 ont-size: 12pt\; color: #000000\;'>On June 18\, the following notable hist
 orical events related to Missouri have been recorded:</span></p>\n<ul>\n<l
 i><span style='font-family: arial\, helvetica\, sans-serif\; font-size: 12
 pt\; color: #000000\;'>1812: The War of 1812 began with the U.S. declarati
 on of war against Britain. Missouri\, then a territory\, played a role as 
 a frontier region\, with conflicts involving Native American tribes allied
  with the British\, particularly in the St. Louis area.</span></li>\n<li><
 span style='font-family: arial\, helvetica\, sans-serif\; font-size: 12pt\
 ; color: #000000\;'>1874: The St. Louis Browns\, a precursor to the modern
  St. Louis Cardinals\, played one of their earliest professional baseball 
 games\, marking the city's growing prominence in American sports.</span></
 li>\n<li><span style='font-family: arial\, helvetica\, sans-serif\; font-s
 ize: 12pt\; color: #000000\;'>1942: During World War II\, the Weldon Sprin
 g Ordnance Works in St. Charles County\, Missouri\, began operations. This
  massive facility produced explosives\, contributing significantly to the 
 war effort.</span></li>\n</ul>
DTSTART;TZID=America/Chicago:20250618T000000
DTEND;TZID=America/Chicago:20250618T235959
RRULE:FREQ=YEARLY;COUNT=3;INTERVAL=1
SUMMARY:June 18th This Day in Missouri
URL:https://taneycountyrepublicans.org.patriotsaroundthelake.com/odds-n-end
 s/this-week-in-missouri/24-this-day-in-missouri/1604-june-18th-this-day-in
 -missouri.html
X-ALT-DESC;FMTTYPE=TEXT/HTML:<p><span style='font-family: arial\, helvetica
 \, sans-serif\; font-size: 12pt\; color: #000000\;'>On June 18\, the follo
 wing notable historical events related to Missouri have been recorded:</sp
 an></p>\n<ul>\n<li><span style='font-family: arial\, helvetica\, sans-seri
 f\; font-size: 12pt\; color: #000000\;'>1812: The War of 1812 began with t
 he U.S. declaration of war against Britain. Missouri\, then a territory\, 
 played a role as a frontier region\, with conflicts involving Native Ameri
 can tribes allied with the British\, particularly in the St. Louis area.</
 span></li>\n<li><span style='font-family: arial\, helvetica\, sans-serif\;
  font-size: 12pt\; color: #000000\;'>1874: The St. Louis Browns\, a precur
 sor to the modern St. Louis Cardinals\, played one of their earliest profe
 ssional baseball games\, marking the city's growing prominence in American
  sports.</span></li>\n<li><span style='font-family: arial\, helvetica\, sa
 ns-serif\; font-size: 12pt\; color: #000000\;'>1942: During World War II\,
  the Weldon Spring Ordnance Works in St. Charles County\, Missouri\, began
  operations. This massive facility produced explosives\, contributing sign
 ificantly to the war effort.</span></li>\n</ul>
END:VEVENT
BEGIN:VEVENT
UID:20250619T000000UTC-1296veboOv@https://taneycountyrepublicans.org/
DTSTAMP:20260424T205608Z
CATEGORIES:This Day in Missouri
DESCRIPTION:<p><span style='font-family: arial\, helvetica\, sans-serif\; f
 ont-size: 12pt\; color: #000000\;'>On June 19\, the following notable hist
 orical events related to Missouri have been recorded:</span></p>\n<ul>\n<l
 i><span style='font-family: arial\, helvetica\, sans-serif\; font-size: 12
 pt\; color: #000000\;'>1861: During the Civil War\, the Battle of Cole Cam
 p occurred in Benton County\, Missouri. Confederate sympathizers attacked 
 a Union encampment\, resulting in a Confederate victory. This skirmish was
  part of the early struggles for control of Missouri during the war.</span
 ></li>\n<li><span style='font-family: arial\, helvetica\, sans-serif\; fon
 t-size: 12pt\; color: #000000\;'>1865: Juneteenth\, marking the emancipati
 on of enslaved African Americans\, was celebrated in Missouri and other st
 ates. While the official announcement of emancipation in Texas occurred on
  June 19\, 1865\, Missouri had abolished slavery earlier that year on Janu
 ary 11\, 1865\, through a state ordinance. Celebrations of freedom on this
  date still resonated in Missouri communities.</span></li>\n<li><span styl
 e='font-family: arial\, helvetica\, sans-serif\; font-size: 12pt\; color: 
 #000000\;'>1964: The Civil Rights Act of 1964 was under intense debate in 
 the U.S. Senate\, with Missouri Senator Thomas Eagleton playing a key role
  in supporting its passage. While the act was signed later\, on July 2\, d
 iscussions and negotiations on June 19 were pivotal\, reflecting Missouri’
 s involvement in national civil rights advancements.</span></li>\n</ul>
DTSTART;TZID=America/Chicago:20250619T000000
DTEND;TZID=America/Chicago:20250619T235959
RRULE:FREQ=YEARLY;COUNT=3;INTERVAL=1
SUMMARY:June 19th This Day in Missouri
URL:https://taneycountyrepublicans.org.patriotsaroundthelake.com/odds-n-end
 s/this-week-in-missouri/24-this-day-in-missouri/1607-june-19th-this-day-in
 -missouri.html
X-ALT-DESC;FMTTYPE=TEXT/HTML:<p><span style='font-family: arial\, helvetica
 \, sans-serif\; font-size: 12pt\; color: #000000\;'>On June 19\, the follo
 wing notable historical events related to Missouri have been recorded:</sp
 an></p>\n<ul>\n<li><span style='font-family: arial\, helvetica\, sans-seri
 f\; font-size: 12pt\; color: #000000\;'>1861: During the Civil War\, the B
 attle of Cole Camp occurred in Benton County\, Missouri. Confederate sympa
 thizers attacked a Union encampment\, resulting in a Confederate victory. 
 This skirmish was part of the early struggles for control of Missouri duri
 ng the war.</span></li>\n<li><span style='font-family: arial\, helvetica\,
  sans-serif\; font-size: 12pt\; color: #000000\;'>1865: Juneteenth\, marki
 ng the emancipation of enslaved African Americans\, was celebrated in Miss
 ouri and other states. While the official announcement of emancipation in 
 Texas occurred on June 19\, 1865\, Missouri had abolished slavery earlier 
 that year on January 11\, 1865\, through a state ordinance. Celebrations o
 f freedom on this date still resonated in Missouri communities.</span></li
 >\n<li><span style='font-family: arial\, helvetica\, sans-serif\; font-siz
 e: 12pt\; color: #000000\;'>1964: The Civil Rights Act of 1964 was under i
 ntense debate in the U.S. Senate\, with Missouri Senator Thomas Eagleton p
 laying a key role in supporting its passage. While the act was signed late
 r\, on July 2\, discussions and negotiations on June 19 were pivotal\, ref
 lecting Missouri’s involvement in national civil rights advancements.</spa
 n></li>\n</ul>
END:VEVENT
END:VCALENDAR
