BEGIN:VCALENDAR
VERSION:2.0
PRODID:-//https://taneycountyrepublicans.org.patriotsaroundthelake.com//NONSGML kigkonsult.se iCalcreator 2.41.71//
CALSCALE:GREGORIAN
METHOD:PUBLISH
UID:65316666-3535-4933-a439-363234353465
X-WR-CALNAME:JCal Pro Calendar
X-WR-CALDESC:Your online events calendar
X-WR-TIMEZONE:America/Chicago
BEGIN:VTIMEZONE
TZID:America/Chicago
TZUNTIL:20271107T070000Z
BEGIN:STANDARD
TZNAME:CST
DTSTART:20251102T020000
TZOFFSETFROM:-0500
TZOFFSETTO:-0600
RDATE:20261101T020000
END:STANDARD
BEGIN:DAYLIGHT
TZNAME:CDT
DTSTART:20260308T020000
TZOFFSETFROM:-0600
TZOFFSETTO:-0500
RDATE:20270314T020000
END:DAYLIGHT
END:VTIMEZONE
BEGIN:VEVENT
UID:20250725T110000UTC-1360D6cuDg@https://taneycountyrepublicans.org/
DTSTAMP:20260421T134110Z
CATEGORIES:This Day in Missouri
DESCRIPTION:<p><span style='font-family: arial\, helvetica\, sans-serif\; f
 ont-size: 12pt\; color: #000000\;'>On July 25\, the following notable hist
 orical events related to Missouri have been recorded:</span></p>\n<ul>\n<l
 i><span style='font-family: arial\, helvetica\, sans-serif\; font-size: 12
 pt\; color: #000000\;'>1804: The Lewis and Clark Expedition\, navigating t
 he Missouri River\, was near present-day Brownville\, Nebraska\, across fr
 om Missouri’s Nemaha County\, on or around July 25. They documented the re
 gion’s resources and continued their council with Otoe and Missouri tribes
 \, contributing to their exploration of the Louisiana Purchase.</span></li
 >\n<li><span style='font-family: arial\, helvetica\, sans-serif\; font-siz
 e: 12pt\; color: #000000\;'>1838: During the Mormon War in Missouri\, tens
 ions escalated further. On or around July 25\, non-Mormon residents in Dav
 iess County intensified efforts to expel Mormon settlers\, with skirmishes
  and threats escalating the conflict that led to the Mormon expulsion orde
 r later in 1838.</span></li>\n<li><span style='font-family: arial\, helvet
 ica\, sans-serif\; font-size: 12pt\; color: #000000\;'>1861: During the Ci
 vil War\, Missouri remained a battleground. On July 25\, Union forces unde
 r General Nathaniel Lyon clashed with Confederate sympathizers in a skirmi
 sh near Fulton\, Missouri\, as part of efforts to secure central Missouri 
 before the Battle of Wilson’s Creek.</span></li>\n<li><span style='font-fa
 mily: arial\, helvetica\, sans-serif\; font-size: 12pt\; color: #000000\;'
 >1876: The St. Louis-based Anheuser-Busch brewery began experimenting with
  bottled beer distribution around July 25\, a key innovation that helped e
 stablish Missouri as a leader in the national brewing industry.</span></li
 >\n<li><span style='font-family: arial\, helvetica\, sans-serif\; font-siz
 e: 12pt\; color: #000000\;'>1904: The St. Louis World’s Fair\, or Louisian
 a Purchase Exposition\, was ongoing\, with July 25 featuring international
  music performances and technological exhibits\, reinforcing Missouri’s gl
 obal cultural prominence.</span></li>\n<li><span style='font-family: arial
 \, helvetica\, sans-serif\; font-size: 12pt\; color: #000000\;'>1965: The 
 St. Louis Cardinals played a notable game against the Milwaukee Braves at 
 Busch Stadium\, with Lou Brock stealing two bases\, contributing to a Card
 inals victory and highlighting Missouri’s baseball legacy.</span></li>\n</
 ul>
DTSTART;TZID=America/Chicago:20250725T000000
DTEND;TZID=America/Chicago:20250725T235959
RRULE:FREQ=YEARLY;COUNT=3;INTERVAL=1
SUMMARY:July 25th This Day in Missouri
URL:https://taneycountyrepublicans.org.patriotsaroundthelake.com/odds-n-end
 s/this-week-in-missouri/24-this-day-in-missouri/1732-july-25th-this-day-in
 -missouri.html
X-ALT-DESC;FMTTYPE=TEXT/HTML:<p><span style='font-family: arial\, helvetica
 \, sans-serif\; font-size: 12pt\; color: #000000\;'>On July 25\, the follo
 wing notable historical events related to Missouri have been recorded:</sp
 an></p>\n<ul>\n<li><span style='font-family: arial\, helvetica\, sans-seri
 f\; font-size: 12pt\; color: #000000\;'>1804: The Lewis and Clark Expediti
 on\, navigating the Missouri River\, was near present-day Brownville\, Neb
 raska\, across from Missouri’s Nemaha County\, on or around July 25. They 
 documented the region’s resources and continued their council with Otoe an
 d Missouri tribes\, contributing to their exploration of the Louisiana Pur
 chase.</span></li>\n<li><span style='font-family: arial\, helvetica\, sans
 -serif\; font-size: 12pt\; color: #000000\;'>1838: During the Mormon War i
 n Missouri\, tensions escalated further. On or around July 25\, non-Mormon
  residents in Daviess County intensified efforts to expel Mormon settlers\
 , with skirmishes and threats escalating the conflict that led to the Morm
 on expulsion order later in 1838.</span></li>\n<li><span style='font-famil
 y: arial\, helvetica\, sans-serif\; font-size: 12pt\; color: #000000\;'>18
 61: During the Civil War\, Missouri remained a battleground. On July 25\, 
 Union forces under General Nathaniel Lyon clashed with Confederate sympath
 izers in a skirmish near Fulton\, Missouri\, as part of efforts to secure 
 central Missouri before the Battle of Wilson’s Creek.</span></li>\n<li><sp
 an style='font-family: arial\, helvetica\, sans-serif\; font-size: 12pt\; 
 color: #000000\;'>1876: The St. Louis-based Anheuser-Busch brewery began e
 xperimenting with bottled beer distribution around July 25\, a key innovat
 ion that helped establish Missouri as a leader in the national brewing ind
 ustry.</span></li>\n<li><span style='font-family: arial\, helvetica\, sans
 -serif\; font-size: 12pt\; color: #000000\;'>1904: The St. Louis World’s F
 air\, or Louisiana Purchase Exposition\, was ongoing\, with July 25 featur
 ing international music performances and technological exhibits\, reinforc
 ing Missouri’s global cultural prominence.</span></li>\n<li><span style='f
 ont-family: arial\, helvetica\, sans-serif\; font-size: 12pt\; color: #000
 000\;'>1965: The St. Louis Cardinals played a notable game against the Mil
 waukee Braves at Busch Stadium\, with Lou Brock stealing two bases\, contr
 ibuting to a Cardinals victory and highlighting Missouri’s baseball legacy
 .</span></li>\n</ul>
END:VEVENT
END:VCALENDAR
