BEGIN:VCALENDAR
VERSION:2.0
PRODID:-//https://taneycountyrepublicans.org.patriotsaroundthelake.com//NONSGML kigkonsult.se iCalcreator 2.41.71//
CALSCALE:GREGORIAN
METHOD:PUBLISH
UID:65376166-3761-4462-a131-383562373261
X-WR-CALNAME:JCal Pro Calendar
X-WR-CALDESC:Your online events calendar
X-WR-TIMEZONE:America/Chicago
BEGIN:VTIMEZONE
TZID:America/Chicago
TZUNTIL:20271107T070000Z
BEGIN:STANDARD
TZNAME:CST
DTSTART:20251102T020000
TZOFFSETFROM:-0500
TZOFFSETTO:-0600
RDATE:20261101T020000
END:STANDARD
BEGIN:DAYLIGHT
TZNAME:CDT
DTSTART:20260308T020000
TZOFFSETFROM:-0600
TZOFFSETTO:-0500
RDATE:20270314T020000
END:DAYLIGHT
END:VTIMEZONE
BEGIN:VEVENT
UID:20250606T000000UTC-9959KgmNv2@https://taneycountyrepublicans.org/
DTSTAMP:20260421T135805Z
CATEGORIES:This Day in Missouri
DESCRIPTION:<p><span style='font-family: arial\, helvetica\, sans-serif\; f
 ont-size: 12pt\; color: #000000\;'>On June 6\, the following notable histo
 rical events related to Missouri have been recorded:</span></p>\n<ul>\n<li
 ><span style='font-family: arial\, helvetica\, sans-serif\; font-size: 12p
 t\; color: #000000\;'>1804: The Lewis and Clark Expedition was in the St. 
 Louis area on or around June 6\, finalizing preparations for their journey
  up the Missouri River to explore the Louisiana Purchase. They were comple
 ting logistical arrangements\, reinforcing Missouri’s role as the gateway 
 for western exploration.</span></li>\n<li><span style='font-family: arial\
 , helvetica\, sans-serif\; font-size: 12pt\; color: #000000\;'>1820: Misso
 uri’s constitutional convention\, held in St. Louis\, was actively draftin
 g the state’s first constitution around June 6. This was a critical step t
 oward Missouri’s admission as a state in 1821\, amid national debates over
  slavery tied to the Missouri Compromise.</span></li>\n<li><span style='fo
 nt-family: arial\, helvetica\, sans-serif\; font-size: 12pt\; color: #0000
 00\;'>1861: During the Civil War\, Missouri was marked by escalating tensi
 ons. On or around June 6\, Union forces under General Nathaniel Lyon were 
 securing St. Louis\, conducting operations to prevent Confederate sympathi
 zers from seizing control of key infrastructure like the St. Louis Arsenal
 .</span></li>\n<li><span style='font-family: arial\, helvetica\, sans-seri
 f\; font-size: 12pt\; color: #000000\;'>1873: The Missouri\, Kansas\, and 
 Texas Railway (Katy Railroad) began expanding its network through southwes
 t Missouri around June 6\, connecting Springfield to other regions and fos
 tering economic growth in the state.</span></li>\n<li><span style='font-fa
 mily: arial\, helvetica\, sans-serif\; font-size: 12pt\; color: #000000\;'
 >1904: The St. Louis World’s Fair\, or Louisiana Purchase Exposition\, was
  underway\, with June 6 featuring early international trade exhibits and c
 ultural performances\, highlighting Missouri’s prominence as a global hub.
 </span></li>\n<li><span style='font-family: arial\, helvetica\, sans-serif
 \; font-size: 12pt\; color: #000000\;'>1944: On D-Day\, June 6\, Missouri 
 contributed significantly to the war effort. The state’s Weldon Spring Ord
 nance Works was producing explosives\, and Missouri soldiers\, including t
 hose from the 29th Infantry Division\, were involved in the Normandy invas
 ion\, underscoring Missouri’s role in World War II.</span></li>\n</ul>
DTSTART;TZID=America/Chicago:20250606T000000
DTEND;TZID=America/Chicago:20250606T235959
RRULE:FREQ=YEARLY;COUNT=3;INTERVAL=1
SUMMARY:June 6th This Day in Missouri
URL:https://taneycountyrepublicans.org.patriotsaroundthelake.com/odds-n-end
 s/this-week-in-missouri/24-this-day-in-missouri/1774-june-6th-this-day-in-
 missouri.html
X-ALT-DESC;FMTTYPE=TEXT/HTML:<p><span style='font-family: arial\, helvetica
 \, sans-serif\; font-size: 12pt\; color: #000000\;'>On June 6\, the follow
 ing notable historical events related to Missouri have been recorded:</spa
 n></p>\n<ul>\n<li><span style='font-family: arial\, helvetica\, sans-serif
 \; font-size: 12pt\; color: #000000\;'>1804: The Lewis and Clark Expeditio
 n was in the St. Louis area on or around June 6\, finalizing preparations 
 for their journey up the Missouri River to explore the Louisiana Purchase.
  They were completing logistical arrangements\, reinforcing Missouri’s rol
 e as the gateway for western exploration.</span></li>\n<li><span style='fo
 nt-family: arial\, helvetica\, sans-serif\; font-size: 12pt\; color: #0000
 00\;'>1820: Missouri’s constitutional convention\, held in St. Louis\, was
  actively drafting the state’s first constitution around June 6. This was 
 a critical step toward Missouri’s admission as a state in 1821\, amid nati
 onal debates over slavery tied to the Missouri Compromise.</span></li>\n<l
 i><span style='font-family: arial\, helvetica\, sans-serif\; font-size: 12
 pt\; color: #000000\;'>1861: During the Civil War\, Missouri was marked by
  escalating tensions. On or around June 6\, Union forces under General Nat
 haniel Lyon were securing St. Louis\, conducting operations to prevent Con
 federate sympathizers from seizing control of key infrastructure like the 
 St. Louis Arsenal.</span></li>\n<li><span style='font-family: arial\, helv
 etica\, sans-serif\; font-size: 12pt\; color: #000000\;'>1873: The Missour
 i\, Kansas\, and Texas Railway (Katy Railroad) began expanding its network
  through southwest Missouri around June 6\, connecting Springfield to othe
 r regions and fostering economic growth in the state.</span></li>\n<li><sp
 an style='font-family: arial\, helvetica\, sans-serif\; font-size: 12pt\; 
 color: #000000\;'>1904: The St. Louis World’s Fair\, or Louisiana Purchase
  Exposition\, was underway\, with June 6 featuring early international tra
 de exhibits and cultural performances\, highlighting Missouri’s prominence
  as a global hub.</span></li>\n<li><span style='font-family: arial\, helve
 tica\, sans-serif\; font-size: 12pt\; color: #000000\;'>1944: On D-Day\, J
 une 6\, Missouri contributed significantly to the war effort. The state’s 
 Weldon Spring Ordnance Works was producing explosives\, and Missouri soldi
 ers\, including those from the 29th Infantry Division\, were involved in t
 he Normandy invasion\, underscoring Missouri’s role in World War II.</span
 ></li>\n</ul>
END:VEVENT
END:VCALENDAR
