BEGIN:VCALENDAR
VERSION:2.0
PRODID:-//https://taneycountyrepublicans.org.patriotsaroundthelake.com//NONSGML kigkonsult.se iCalcreator 2.41.71//
CALSCALE:GREGORIAN
METHOD:PUBLISH
UID:32363063-3535-4465-a665-366366386263
X-WR-CALNAME:JCal Pro Calendar
X-WR-CALDESC:Your online events calendar
X-WR-TIMEZONE:America/Chicago
BEGIN:VTIMEZONE
TZID:America/Chicago
TZUNTIL:20271107T070000Z
BEGIN:STANDARD
TZNAME:CST
DTSTART:20251102T020000
TZOFFSETFROM:-0500
TZOFFSETTO:-0600
RDATE:20261101T020000
END:STANDARD
BEGIN:DAYLIGHT
TZNAME:CDT
DTSTART:20260308T020000
TZOFFSETFROM:-0600
TZOFFSETTO:-0500
RDATE:20270314T020000
END:DAYLIGHT
END:VTIMEZONE
BEGIN:VEVENT
UID:20250110T000000UTC-8319ONvcOX@https://taneycountyrepublicans.org/
DTSTAMP:20260424T212318Z
CATEGORIES:This Day in Missouri
DESCRIPTION:<p><span style='font-family: arial\, helvetica\, sans-serif\; f
 ont-size: 12pt\; color: #000000\;'>On January 10\, the following notable h
 istorical events related to Missouri occurred:</span></p>\n<ul>\n<li><span
  style='font-family: arial\, helvetica\, sans-serif\; font-size: 12pt\; co
 lor: #000000\;'>1806: Zebulon Pike’s expedition\, launched from St. Louis 
 to explore the southern Louisiana Purchase\, continued mapping the Arkansa
 s River region\, though no specific Missouri event is documented for this 
 date\, likely due to post-New Year’s slowdowns.</span></li>\n<li><span sty
 le='font-family: arial\, helvetica\, sans-serif\; font-size: 12pt\; color:
  #000000\;'>1856: In the “Bleeding Kansas” crisis\, pro-slavery “Border Ru
 ffians” from Missouri intensified raids on Kansas anti-slavery settlements
  after New Year’s\, escalating violent clashes over the territory’s slaver
 y status.</span></li>\n<li><span style='font-family: arial\, helvetica\, s
 ans-serif\; font-size: 12pt\; color: #000000\;'>1861: During the Civil War
 \, Union General Henry W. Halleck\, commanding from St. Louis\, reinforced
  federal control\, while Confederate guerrilla raids in rural Missouri res
 umed post-New Year’s\, deepening state divisions.</span></li>\n<li><span s
 tyle='font-family: arial\, helvetica\, sans-serif\; font-size: 12pt\; colo
 r: #000000\;'>1864: After Confederate General Sterling Price’s failed Miss
 ouri campaign\, his forces\, including Missouri units\, were reorganizing 
 in Arkansas following October defeats\, with logistical efforts likely inc
 reasing after New Year’s.</span></li>\n<li><span style='font-family: arial
 \, helvetica\, sans-serif\; font-size: 12pt\; color: #000000\;'>1888: The 
 Missouri Pacific Railroad advanced its southeast Missouri network\, connec
 ting towns like Cape Girardeau to national markets\, driving economic grow
 th\, with operations resuming after New Year’s.</span></li>\n<li><span sty
 le='font-family: arial\, helvetica\, sans-serif\; font-size: 12pt\; color:
  #000000\;'>1929: The Great Depression devastated Missouri\, with Kansas C
 ity and St. Louis facing mass unemployment and business closures\, while p
 ost-New Year’s relief efforts sought to address ongoing economic hardship.
 </span></li>\n<li><span style='font-family: arial\, helvetica\, sans-serif
 \; font-size: 12pt\; color: #000000\;'>1941: Missouri communities\, includ
 ing St. Louis and Kansas City\, escalated World War II mobilization post-P
 earl Harbor\, with local industries accelerating war production and recrui
 tment drives intensifying after New Year’s.</span></li>\n</ul>
DTSTART;TZID=America/Chicago:20250110T000000
DTEND;TZID=America/Chicago:20250110T235959
RRULE:FREQ=YEARLY;COUNT=3;INTERVAL=1
SUMMARY:January 10th This Day in Missouri
URL:https://taneycountyrepublicans.org.patriotsaroundthelake.com/odds-n-end
 s/this-week-in-missouri/24-this-day-in-missouri/2411-january-10th-this-day
 -in-missouri.html
X-ALT-DESC;FMTTYPE=TEXT/HTML:<p><span style='font-family: arial\, helvetica
 \, sans-serif\; font-size: 12pt\; color: #000000\;'>On January 10\, the fo
 llowing notable historical events related to Missouri occurred:</span></p>
 \n<ul>\n<li><span style='font-family: arial\, helvetica\, sans-serif\; fon
 t-size: 12pt\; color: #000000\;'>1806: Zebulon Pike’s expedition\, launche
 d from St. Louis to explore the southern Louisiana Purchase\, continued ma
 pping the Arkansas River region\, though no specific Missouri event is doc
 umented for this date\, likely due to post-New Year’s slowdowns.</span></l
 i>\n<li><span style='font-family: arial\, helvetica\, sans-serif\; font-si
 ze: 12pt\; color: #000000\;'>1856: In the “Bleeding Kansas” crisis\, pro-s
 lavery “Border Ruffians” from Missouri intensified raids on Kansas anti-sl
 avery settlements after New Year’s\, escalating violent clashes over the t
 erritory’s slavery status.</span></li>\n<li><span style='font-family: aria
 l\, helvetica\, sans-serif\; font-size: 12pt\; color: #000000\;'>1861: Dur
 ing the Civil War\, Union General Henry W. Halleck\, commanding from St. L
 ouis\, reinforced federal control\, while Confederate guerrilla raids in r
 ural Missouri resumed post-New Year’s\, deepening state divisions.</span><
 /li>\n<li><span style='font-family: arial\, helvetica\, sans-serif\; font-
 size: 12pt\; color: #000000\;'>1864: After Confederate General Sterling Pr
 ice’s failed Missouri campaign\, his forces\, including Missouri units\, w
 ere reorganizing in Arkansas following October defeats\, with logistical e
 fforts likely increasing after New Year’s.</span></li>\n<li><span style='f
 ont-family: arial\, helvetica\, sans-serif\; font-size: 12pt\; color: #000
 000\;'>1888: The Missouri Pacific Railroad advanced its southeast Missouri
  network\, connecting towns like Cape Girardeau to national markets\, driv
 ing economic growth\, with operations resuming after New Year’s.</span></l
 i>\n<li><span style='font-family: arial\, helvetica\, sans-serif\; font-si
 ze: 12pt\; color: #000000\;'>1929: The Great Depression devastated Missour
 i\, with Kansas City and St. Louis facing mass unemployment and business c
 losures\, while post-New Year’s relief efforts sought to address ongoing e
 conomic hardship.</span></li>\n<li><span style='font-family: arial\, helve
 tica\, sans-serif\; font-size: 12pt\; color: #000000\;'>1941: Missouri com
 munities\, including St. Louis and Kansas City\, escalated World War II mo
 bilization post-Pearl Harbor\, with local industries accelerating war prod
 uction and recruitment drives intensifying after New Year’s.</span></li>\n
 </ul>
END:VEVENT
END:VCALENDAR
