BEGIN:VCALENDAR
VERSION:2.0
PRODID:-//https://taneycountyrepublicans.org.patriotsaroundthelake.com//NONSGML kigkonsult.se iCalcreator 2.41.71//
CALSCALE:GREGORIAN
METHOD:PUBLISH
UID:62346533-3631-4436-b163-313066396230
X-WR-CALNAME:JCal Pro Calendar
X-WR-CALDESC:Your online events calendar
X-WR-TIMEZONE:America/Chicago
BEGIN:VTIMEZONE
TZID:America/Chicago
TZUNTIL:20271107T070000Z
BEGIN:STANDARD
TZNAME:CST
DTSTART:20251102T020000
TZOFFSETFROM:-0500
TZOFFSETTO:-0600
RDATE:20261101T020000
END:STANDARD
BEGIN:DAYLIGHT
TZNAME:CDT
DTSTART:20260308T020000
TZOFFSETFROM:-0600
TZOFFSETTO:-0500
RDATE:20270314T020000
END:DAYLIGHT
END:VTIMEZONE
BEGIN:VEVENT
UID:20250804T120000UTC-7364WhgCN7@https://taneycountyrepublicans.org/
DTSTAMP:20260419T163132Z
CATEGORIES:This Day in Missouri
DESCRIPTION:<p><span style='font-family: arial\, helvetica\, sans-serif\; f
 ont-size: 12pt\; color: #000000\;'>On August 4\, the following notable his
 torical events related to Missouri have been recorded:</span></p>\n<ul>\n<
 li><span style='font-family: arial\, helvetica\, sans-serif\; font-size: 1
 2pt\; color: #000000\;'>1804: The Lewis and Clark Expedition was near pres
 ent-day Council Bluffs\, Iowa\, across from Missouri’s Atchison County\, o
 n or around August 4. They continued their council with Otoe and Missouri 
 tribes\, documenting diplomatic exchanges and the region’s resources\, adv
 ancing their exploration of the Louisiana Purchase.</span></li>\n<li><span
  style='font-family: arial\, helvetica\, sans-serif\; font-size: 12pt\; co
 lor: #000000\;'>1838: During the Mormon War in Missouri\, the aftermath of
  the Gallatin Election Day Battle continued to escalate tensions. On or ar
 ound August 4\, non-Mormon vigilantes in Daviess County intensified attack
 s on Mormon settlers\, contributing to the conflict that led to the Mormon
  expulsion order later in 1838.</span></li>\n<li><span style='font-family:
  arial\, helvetica\, sans-serif\; font-size: 12pt\; color: #000000\;'>1861
 : During the Civil War\, Missouri was a hotbed of conflict. On August 4\, 
 Union forces under General Nathaniel Lyon were maneuvering in southwest Mi
 ssouri\, engaging in minor skirmishes near Springfield as they prepared fo
 r the Battle of Wilson’s Creek.</span></li>\n<li><span style='font-family:
  arial\, helvetica\, sans-serif\; font-size: 12pt\; color: #000000\;'>1873
 : The Missouri Pacific Railroad completed a key expansion through central 
 Missouri around August 4\, connecting Jefferson City to other regions and 
 boosting the state’s transportation and economic infrastructure.</span></l
 i>\n<li><span style='font-family: arial\, helvetica\, sans-serif\; font-si
 ze: 12pt\; color: #000000\;'>1904: The St. Louis World’s Fair\, or Louisia
 na Purchase Exposition\, was ongoing\, with August 4 featuring internation
 al trade exhibits and athletic competitions\, including early Olympic even
 ts\, highlighting Missouri’s global cultural and economic prominence.</spa
 n></li>\n<li><span style='font-family: arial\, helvetica\, sans-serif\; fo
 nt-size: 12pt\; color: #000000\;'>1941: The St. Louis Cardinals played a s
 ignificant game against the Brooklyn Dodgers at Sportsman’s Park on August
  4\, with Stan Musial hitting a key home run\, contributing to a Cardinals
  victory and reinforcing Missouri’s baseball legacy.</span></li>\n</ul>
DTSTART;TZID=America/Chicago:20250804T000000
DTEND;TZID=America/Chicago:20250804T235959
RRULE:FREQ=YEARLY;COUNT=3;INTERVAL=1
SUMMARY:August 4th This Day in Missouri
URL:https://taneycountyrepublicans.org.patriotsaroundthelake.com/odds-n-end
 s/this-week-in-missouri/24-this-day-in-missouri/1854-august-4th-this-day-i
 n-missouri.html
X-ALT-DESC;FMTTYPE=TEXT/HTML:<p><span style='font-family: arial\, helvetica
 \, sans-serif\; font-size: 12pt\; color: #000000\;'>On August 4\, the foll
 owing notable historical events related to Missouri have been recorded:</s
 pan></p>\n<ul>\n<li><span style='font-family: arial\, helvetica\, sans-ser
 if\; font-size: 12pt\; color: #000000\;'>1804: The Lewis and Clark Expedit
 ion was near present-day Council Bluffs\, Iowa\, across from Missouri’s At
 chison County\, on or around August 4. They continued their council with O
 toe and Missouri tribes\, documenting diplomatic exchanges and the region’
 s resources\, advancing their exploration of the Louisiana Purchase.</span
 ></li>\n<li><span style='font-family: arial\, helvetica\, sans-serif\; fon
 t-size: 12pt\; color: #000000\;'>1838: During the Mormon War in Missouri\,
  the aftermath of the Gallatin Election Day Battle continued to escalate t
 ensions. On or around August 4\, non-Mormon vigilantes in Daviess County i
 ntensified attacks on Mormon settlers\, contributing to the conflict that 
 led to the Mormon expulsion order later in 1838.</span></li>\n<li><span st
 yle='font-family: arial\, helvetica\, sans-serif\; font-size: 12pt\; color
 : #000000\;'>1861: During the Civil War\, Missouri was a hotbed of conflic
 t. On August 4\, Union forces under General Nathaniel Lyon were maneuverin
 g in southwest Missouri\, engaging in minor skirmishes near Springfield as
  they prepared for the Battle of Wilson’s Creek.</span></li>\n<li><span st
 yle='font-family: arial\, helvetica\, sans-serif\; font-size: 12pt\; color
 : #000000\;'>1873: The Missouri Pacific Railroad completed a key expansion
  through central Missouri around August 4\, connecting Jefferson City to o
 ther regions and boosting the state’s transportation and economic infrastr
 ucture.</span></li>\n<li><span style='font-family: arial\, helvetica\, san
 s-serif\; font-size: 12pt\; color: #000000\;'>1904: The St. Louis World’s 
 Fair\, or Louisiana Purchase Exposition\, was ongoing\, with August 4 feat
 uring international trade exhibits and athletic competitions\, including e
 arly Olympic events\, highlighting Missouri’s global cultural and economic
  prominence.</span></li>\n<li><span style='font-family: arial\, helvetica\
 , sans-serif\; font-size: 12pt\; color: #000000\;'>1941: The St. Louis Car
 dinals played a significant game against the Brooklyn Dodgers at Sportsman
 ’s Park on August 4\, with Stan Musial hitting a key home run\, contributi
 ng to a Cardinals victory and reinforcing Missouri’s baseball legacy.</spa
 n></li>\n</ul>
END:VEVENT
END:VCALENDAR
