BEGIN:VCALENDAR
VERSION:2.0
PRODID:-//https://taneycountyrepublicans.org.patriotsaroundthelake.com//NONSGML kigkonsult.se iCalcreator 2.41.71//
CALSCALE:GREGORIAN
METHOD:PUBLISH
UID:37323337-3132-4930-a435-343764656130
X-WR-CALNAME:JCal Pro Calendar
X-WR-CALDESC:Your online events calendar
X-WR-TIMEZONE:America/Chicago
BEGIN:VTIMEZONE
TZID:America/Chicago
TZUNTIL:20271107T070000Z
BEGIN:STANDARD
TZNAME:CST
DTSTART:20251102T020000
TZOFFSETFROM:-0500
TZOFFSETTO:-0600
RDATE:20261101T020000
END:STANDARD
BEGIN:DAYLIGHT
TZNAME:CDT
DTSTART:20260308T020000
TZOFFSETFROM:-0600
TZOFFSETTO:-0500
RDATE:20270314T020000
END:DAYLIGHT
END:VTIMEZONE
BEGIN:VEVENT
UID:20250820T130000UTC-4418IkWJvv@https://taneycountyrepublicans.org/
DTSTAMP:20260425T131420Z
CATEGORIES:This Day in Missouri
DESCRIPTION:<p><span style='font-family: arial\, helvetica\, sans-serif\; f
 ont-size: 12pt\; color: #000000\;'>On August 20\, the following notable hi
 storical events related to Missouri have been recorded:</span></p>\n<ul>\n
 <li><span style='font-family: arial\, helvetica\, sans-serif\; font-size: 
 12pt\; color: #000000\;'>1804: The Lewis and Clark Expedition was near pre
 sent-day Sioux City\, Iowa\, across from Missouri’s Atchison County\, on o
 r around August 20. A significant event occurred when Sergeant Charles Flo
 yd died\, likely from appendicitis\, near present-day Sioux City\, marking
  the expedition’s first and only death. The expedition\, advancing the exp
 loration of the Louisiana Purchase\, was in Missouri’s vicinity during thi
 s time.</span></li>\n<li><span style='font-family: arial\, helvetica\, san
 s-serif\; font-size: 12pt\; color: #000000\;'>1838: During the Mormon War 
 in Missouri\, tensions escalated. On or around August 20\, non-Mormon vigi
 lantes in Daviess and Carroll Counties continued their campaign against Mo
 rmon settlers\, with skirmishes intensifying the conflict that led to the 
 Mormon expulsion order later in 1838.</span></li>\n<li><span style='font-f
 amily: arial\, helvetica\, sans-serif\; font-size: 12pt\; color: #000000\;
 '>1861: During the Civil War\, the aftermath of the Battle of Wilson’s Cre
 ek (August 10) continued in Missouri. On August 20\, Union forces were reg
 rouping after their retreat from Springfield\, while Confederate forces st
 rengthened their control in southwest Missouri\, highlighting Missouri’s p
 ivotal role in the conflict.</span></li>\n<li><span style='font-family: ar
 ial\, helvetica\, sans-serif\; font-size: 12pt\; color: #000000\;'>1876: T
 he St. Louis-based Anheuser-Busch brewery expanded its refrigerated railca
 r system around August 20\, enabling broader distribution of Budweiser and
  reinforcing Missouri’s leadership in the national brewing industry.</span
 ></li>\n<li><span style='font-family: arial\, helvetica\, sans-serif\; fon
 t-size: 12pt\; color: #000000\;'>1904: The St. Louis World’s Fair\, or Lou
 isiana Purchase Exposition\, was ongoing\, with August 20 featuring intern
 ational scientific exhibits and early Olympic events\, showcasing Missouri
 ’s global cultural and economic prominence.</span></li>\n<li><span style='
 font-family: arial\, helvetica\, sans-serif\; font-size: 12pt\; color: #00
 0000\;'>1967: The St. Louis Cardinals played a notable game against the Pi
 ttsburgh Pirates at Busch Stadium on August 20\, with Bob Gibson pitching 
 a complete game and Orlando Cepeda hitting a key home run\, contributing t
 o their World Series-winning season and reinforcing Missouri’s baseball le
 gacy.</span></li>\n</ul>
DTSTART;TZID=America/Chicago:20250820T000000
DTEND;TZID=America/Chicago:20250820T235959
RRULE:FREQ=YEARLY;COUNT=3;INTERVAL=1
SUMMARY:August 20th This Day in Missouri
URL:https://taneycountyrepublicans.org.patriotsaroundthelake.com/odds-n-end
 s/this-week-in-missouri/24-this-day-in-missouri/1901-august-20th-this-day-
 in-missouri.html
X-ALT-DESC;FMTTYPE=TEXT/HTML:<p><span style='font-family: arial\, helvetica
 \, sans-serif\; font-size: 12pt\; color: #000000\;'>On August 20\, the fol
 lowing notable historical events related to Missouri have been recorded:</
 span></p>\n<ul>\n<li><span style='font-family: arial\, helvetica\, sans-se
 rif\; font-size: 12pt\; color: #000000\;'>1804: The Lewis and Clark Expedi
 tion was near present-day Sioux City\, Iowa\, across from Missouri’s Atchi
 son County\, on or around August 20. A significant event occurred when Ser
 geant Charles Floyd died\, likely from appendicitis\, near present-day Sio
 ux City\, marking the expedition’s first and only death. The expedition\, 
 advancing the exploration of the Louisiana Purchase\, was in Missouri’s vi
 cinity during this time.</span></li>\n<li><span style='font-family: arial\
 , helvetica\, sans-serif\; font-size: 12pt\; color: #000000\;'>1838: Durin
 g the Mormon War in Missouri\, tensions escalated. On or around August 20\
 , non-Mormon vigilantes in Daviess and Carroll Counties continued their ca
 mpaign against Mormon settlers\, with skirmishes intensifying the conflict
  that led to the Mormon expulsion order later in 1838.</span></li>\n<li><s
 pan style='font-family: arial\, helvetica\, sans-serif\; font-size: 12pt\;
  color: #000000\;'>1861: During the Civil War\, the aftermath of the Battl
 e of Wilson’s Creek (August 10) continued in Missouri. On August 20\, Unio
 n forces were regrouping after their retreat from Springfield\, while Conf
 ederate forces strengthened their control in southwest Missouri\, highligh
 ting Missouri’s pivotal role in the conflict.</span></li>\n<li><span style
 ='font-family: arial\, helvetica\, sans-serif\; font-size: 12pt\; color: #
 000000\;'>1876: The St. Louis-based Anheuser-Busch brewery expanded its re
 frigerated railcar system around August 20\, enabling broader distribution
  of Budweiser and reinforcing Missouri’s leadership in the national brewin
 g industry.</span></li>\n<li><span style='font-family: arial\, helvetica\,
  sans-serif\; font-size: 12pt\; color: #000000\;'>1904: The St. Louis Worl
 d’s Fair\, or Louisiana Purchase Exposition\, was ongoing\, with August 20
  featuring international scientific exhibits and early Olympic events\, sh
 owcasing Missouri’s global cultural and economic prominence.</span></li>\n
 <li><span style='font-family: arial\, helvetica\, sans-serif\; font-size: 
 12pt\; color: #000000\;'>1967: The St. Louis Cardinals played a notable ga
 me against the Pittsburgh Pirates at Busch Stadium on August 20\, with Bob
  Gibson pitching a complete game and Orlando Cepeda hitting a key home run
 \, contributing to their World Series-winning season and reinforcing Misso
 uri’s baseball legacy.</span></li>\n</ul>
END:VEVENT
END:VCALENDAR
