BEGIN:VCALENDAR
VERSION:2.0
PRODID:-//https://taneycountyrepublicans.org.patriotsaroundthelake.com//NONSGML kigkonsult.se iCalcreator 2.41.71//
CALSCALE:GREGORIAN
METHOD:PUBLISH
UID:61376635-6565-4565-a661-386534323834
X-WR-CALNAME:JCal Pro Calendar
X-WR-CALDESC:Your online events calendar
X-WR-TIMEZONE:America/Chicago
BEGIN:VTIMEZONE
TZID:America/Chicago
TZUNTIL:20271107T070000Z
BEGIN:STANDARD
TZNAME:CST
DTSTART:20251102T020000
TZOFFSETFROM:-0500
TZOFFSETTO:-0600
RDATE:20261101T020000
END:STANDARD
BEGIN:DAYLIGHT
TZNAME:CDT
DTSTART:20260308T020000
TZOFFSETFROM:-0600
TZOFFSETTO:-0500
RDATE:20270314T020000
END:DAYLIGHT
END:VTIMEZONE
BEGIN:VEVENT
UID:20250828T140000UTC-2095SIWoac@https://taneycountyrepublicans.org/
DTSTAMP:20260425T174129Z
CATEGORIES:This Day in Missouri
DESCRIPTION:<p><span style='font-family: arial\, helvetica\, sans-serif\; f
 ont-size: 12pt\; color: #000000\;'>On August 28\, the following notable hi
 storical events related to Missouri have been recorded:</span></p>\n<ul>\n
 <li><span style='font-family: arial\, helvetica\, sans-serif\; font-size: 
 12pt\; color: #000000\;'>1804: The Lewis and Clark Expedition was near pre
 sent-day Sioux City\, Iowa\, across from Missouri’s Atchison County\, on o
 r around August 28. They continued documenting the region’s resources and 
 interactions with Native American tribes\, advancing their exploration of 
 the Louisiana Purchase.</span></li>\n<li><span style='font-family: arial\,
  helvetica\, sans-serif\; font-size: 12pt\; color: #000000\;'>1838: During
  the Mormon War in Missouri\, tensions escalated. On or around August 28\,
  non-Mormon vigilantes in Daviess and Carroll Counties intensified their c
 ampaign against Mormon settlers\, with skirmishes contributing to the conf
 lict that led to the Mormon expulsion order later in 1838.</span></li>\n<l
 i><span style='font-family: arial\, helvetica\, sans-serif\; font-size: 12
 pt\; color: #000000\;'>1861: During the Civil War\, the aftermath of the B
 attle of Wilson’s Creek (August 10) continued in Missouri. On August 28\, 
 Union forces were regrouping after their retreat from Springfield\, while 
 Confederate forces strengthened their control in southwest Missouri\, high
 lighting Missouri’s pivotal role in the conflict.</span></li>\n<li><span s
 tyle='font-family: arial\, helvetica\, sans-serif\; font-size: 12pt\; colo
 r: #000000\;'>1873: The Missouri\, Kansas\, and Texas Railway (Katy Railro
 ad) expanded its network through southwest Missouri around August 28\, con
 necting Springfield to other regions and fostering economic growth in the 
 state.</span></li>\n<li><span style='font-family: arial\, helvetica\, sans
 -serif\; font-size: 12pt\; color: #000000\;'>1904: The St. Louis World’s F
 air\, or Louisiana Purchase Exposition\, was ongoing\, with August 28 feat
 uring international trade exhibits and cultural performances\, reinforcing
  Missouri’s prominence as a global hub.</span></li>\n<li><span style='font
 -family: arial\, helvetica\, sans-serif\; font-size: 12pt\; color: #000000
 \;'>1963: While the March on Washington for Jobs and Freedom took place in
  Washington\, D.C.\, on August 28\, Missouri played a role in the civil ri
 ghts movement. St. Louis and Kansas City activists participated\, and the 
 event inspired local demonstrations in Missouri\, reflecting the state’s e
 ngagement in the national push for equality.</span></li>\n</ul>
DTSTART;TZID=America/Chicago:20250828T000000
DTEND;TZID=America/Chicago:20250828T235959
RRULE:FREQ=YEARLY;COUNT=3;INTERVAL=1
SUMMARY:August 28th This Day in Missouri
URL:https://taneycountyrepublicans.org.patriotsaroundthelake.com/odds-n-end
 s/this-week-in-missouri/24-this-day-in-missouri/1925-august-28th-this-day-
 in-missouri.html
X-ALT-DESC;FMTTYPE=TEXT/HTML:<p><span style='font-family: arial\, helvetica
 \, sans-serif\; font-size: 12pt\; color: #000000\;'>On August 28\, the fol
 lowing notable historical events related to Missouri have been recorded:</
 span></p>\n<ul>\n<li><span style='font-family: arial\, helvetica\, sans-se
 rif\; font-size: 12pt\; color: #000000\;'>1804: The Lewis and Clark Expedi
 tion was near present-day Sioux City\, Iowa\, across from Missouri’s Atchi
 son County\, on or around August 28. They continued documenting the region
 ’s resources and interactions with Native American tribes\, advancing thei
 r exploration of the Louisiana Purchase.</span></li>\n<li><span style='fon
 t-family: arial\, helvetica\, sans-serif\; font-size: 12pt\; color: #00000
 0\;'>1838: During the Mormon War in Missouri\, tensions escalated. On or a
 round August 28\, non-Mormon vigilantes in Daviess and Carroll Counties in
 tensified their campaign against Mormon settlers\, with skirmishes contrib
 uting to the conflict that led to the Mormon expulsion order later in 1838
 .</span></li>\n<li><span style='font-family: arial\, helvetica\, sans-seri
 f\; font-size: 12pt\; color: #000000\;'>1861: During the Civil War\, the a
 ftermath of the Battle of Wilson’s Creek (August 10) continued in Missouri
 . On August 28\, Union forces were regrouping after their retreat from Spr
 ingfield\, while Confederate forces strengthened their control in southwes
 t Missouri\, highlighting Missouri’s pivotal role in the conflict.</span><
 /li>\n<li><span style='font-family: arial\, helvetica\, sans-serif\; font-
 size: 12pt\; color: #000000\;'>1873: The Missouri\, Kansas\, and Texas Rai
 lway (Katy Railroad) expanded its network through southwest Missouri aroun
 d August 28\, connecting Springfield to other regions and fostering econom
 ic growth in the state.</span></li>\n<li><span style='font-family: arial\,
  helvetica\, sans-serif\; font-size: 12pt\; color: #000000\;'>1904: The St
 . Louis World’s Fair\, or Louisiana Purchase Exposition\, was ongoing\, wi
 th August 28 featuring international trade exhibits and cultural performan
 ces\, reinforcing Missouri’s prominence as a global hub.</span></li>\n<li>
 <span style='font-family: arial\, helvetica\, sans-serif\; font-size: 12pt
 \; color: #000000\;'>1963: While the March on Washington for Jobs and Free
 dom took place in Washington\, D.C.\, on August 28\, Missouri played a rol
 e in the civil rights movement. St. Louis and Kansas City activists partic
 ipated\, and the event inspired local demonstrations in Missouri\, reflect
 ing the state’s engagement in the national push for equality.</span></li>
 \n</ul>
END:VEVENT
END:VCALENDAR
