BEGIN:VCALENDAR
VERSION:2.0
PRODID:-//https://taneycountyrepublicans.org.patriotsaroundthelake.com//NONSGML kigkonsult.se iCalcreator 2.41.71//
CALSCALE:GREGORIAN
METHOD:PUBLISH
UID:39313938-6331-4438-b537-313537396430
X-WR-CALNAME:JCal Pro Calendar
X-WR-CALDESC:Your online events calendar
X-WR-TIMEZONE:America/Chicago
BEGIN:VTIMEZONE
TZID:America/Chicago
TZUNTIL:20271107T070000Z
BEGIN:STANDARD
TZNAME:CST
DTSTART:20251102T020000
TZOFFSETFROM:-0500
TZOFFSETTO:-0600
RDATE:20261101T020000
END:STANDARD
BEGIN:DAYLIGHT
TZNAME:CDT
DTSTART:20260308T020000
TZOFFSETFROM:-0600
TZOFFSETTO:-0500
RDATE:20270314T020000
END:DAYLIGHT
END:VTIMEZONE
BEGIN:VEVENT
UID:20251129T000000UTC-4082UdlFvo@https://taneycountyrepublicans.org/
DTSTAMP:20260425T023152Z
CATEGORIES:This Day in Missouri
DESCRIPTION:<p><span style='font-family: arial\, helvetica\, sans-serif\; f
 ont-size: 12pt\; color: #000000\;'>On November 29\, the following notable 
 historical events related to Missouri occurred:</span></p>\n<ul>\n<li><spa
 n style='font-family: arial\, helvetica\, sans-serif\; font-size: 12pt\; c
 olor: #000000\;'>1806: Zebulon Pike’s expedition\, launched from St. Louis
  to explore the southern Louisiana Purchase\, continued its westward journ
 ey\, mapping the Arkansas River region\, though no specific Missouri event
  is documented for this date.</span></li>\n<li><span style='font-family: a
 rial\, helvetica\, sans-serif\; font-size: 12pt\; color: #000000\;'>1856: 
 During the “Bleeding Kansas” crisis\, pro-slavery “Border Ruffians” from M
 issouri persisted in raiding Kansas\, targeting anti-slavery settlers to i
 nfluence the territory’s slavery status\, intensifying violent border conf
 licts.</span></li>\n<li><span style='font-family: arial\, helvetica\, sans
 -serif\; font-size: 12pt\; color: #000000\;'>1861: In the Civil War\, Unio
 n General Henry W. Halleck solidified St. Louis as a Union stronghold\, wh
 ile Confederate guerrillas\, including bushwhackers\, conducted raids in r
 ural Missouri\, exacerbating the state’s divided loyalties.</span></li>\n<
 li><span style='font-family: arial\, helvetica\, sans-serif\; font-size: 1
 2pt\; color: #000000\;'>1864: The Battle of Spring Hill took place in Tenn
 essee\, but its prelude involved Missouri-based Confederate forces under G
 eneral Sterling Price\, who had retreated from Missouri after defeats in O
 ctober\, with logistical movements possibly occurring around November 29.<
 /span></li>\n<li><span style='font-family: arial\, helvetica\, sans-serif\
 ; font-size: 12pt\; color: #000000\;'>1888: The Missouri Pacific Railroad 
 furthered its expansion in southeast Missouri\, connecting rural areas lik
 e Cape Girardeau to national markets\, driving economic growth and regiona
 l integration.</span></li>\n<li><span style='font-family: arial\, helvetic
 a\, sans-serif\; font-size: 12pt\; color: #000000\;'>1929: The Great Depre
 ssion severely impacted Missouri\, with urban centers like Kansas City and
  St. Louis facing mass layoffs\, bank failures\, and shuttered businesses\
 , deepening the state’s economic crisis.</span></li>\n<li><span style='fon
 t-family: arial\, helvetica\, sans-serif\; font-size: 12pt\; color: #00000
 0\;'>1963: Missouri communities\, including St. Louis and Kansas City\, co
 ntinued mourning President John F. Kennedy’s assassination with memorial s
 ervices and vigils\, reflecting the nation’s ongoing grief one week later.
 </span></li>\n</ul>
DTSTART;TZID=America/Chicago:20251129T000000
DTEND;TZID=America/Chicago:20251129T235959
RRULE:FREQ=YEARLY;COUNT=3;INTERVAL=1
SUMMARY:November 29th This Day in Missouri
URL:https://taneycountyrepublicans.org.patriotsaroundthelake.com/odds-n-end
 s/this-week-in-missouri/24-this-day-in-missouri/2283-november-29th-this-da
 y-in-missouri.html
X-ALT-DESC;FMTTYPE=TEXT/HTML:<p><span style='font-family: arial\, helvetica
 \, sans-serif\; font-size: 12pt\; color: #000000\;'>On November 29\, the f
 ollowing notable historical events related to Missouri occurred:</span></p
 >\n<ul>\n<li><span style='font-family: arial\, helvetica\, sans-serif\; fo
 nt-size: 12pt\; color: #000000\;'>1806: Zebulon Pike’s expedition\, launch
 ed from St. Louis to explore the southern Louisiana Purchase\, continued i
 ts westward journey\, mapping the Arkansas River region\, though no specif
 ic Missouri event is documented for this date.</span></li>\n<li><span styl
 e='font-family: arial\, helvetica\, sans-serif\; font-size: 12pt\; color: 
 #000000\;'>1856: During the “Bleeding Kansas” crisis\, pro-slavery “Border
  Ruffians” from Missouri persisted in raiding Kansas\, targeting anti-slav
 ery settlers to influence the territory’s slavery status\, intensifying vi
 olent border conflicts.</span></li>\n<li><span style='font-family: arial\,
  helvetica\, sans-serif\; font-size: 12pt\; color: #000000\;'>1861: In the
  Civil War\, Union General Henry W. Halleck solidified St. Louis as a Unio
 n stronghold\, while Confederate guerrillas\, including bushwhackers\, con
 ducted raids in rural Missouri\, exacerbating the state’s divided loyaltie
 s.</span></li>\n<li><span style='font-family: arial\, helvetica\, sans-ser
 if\; font-size: 12pt\; color: #000000\;'>1864: The Battle of Spring Hill t
 ook place in Tennessee\, but its prelude involved Missouri-based Confedera
 te forces under General Sterling Price\, who had retreated from Missouri a
 fter defeats in October\, with logistical movements possibly occurring aro
 und November 29.</span></li>\n<li><span style='font-family: arial\, helvet
 ica\, sans-serif\; font-size: 12pt\; color: #000000\;'>1888: The Missouri 
 Pacific Railroad furthered its expansion in southeast Missouri\, connectin
 g rural areas like Cape Girardeau to national markets\, driving economic g
 rowth and regional integration.</span></li>\n<li><span style='font-family:
  arial\, helvetica\, sans-serif\; font-size: 12pt\; color: #000000\;'>1929
 : The Great Depression severely impacted Missouri\, with urban centers lik
 e Kansas City and St. Louis facing mass layoffs\, bank failures\, and shut
 tered businesses\, deepening the state’s economic crisis.</span></li>\n<li
 ><span style='font-family: arial\, helvetica\, sans-serif\; font-size: 12p
 t\; color: #000000\;'>1963: Missouri communities\, including St. Louis and
  Kansas City\, continued mourning President John F. Kennedy’s assassinatio
 n with memorial services and vigils\, reflecting the nation’s ongoing grie
 f one week later.</span></li>\n</ul>
END:VEVENT
END:VCALENDAR
