BEGIN:VCALENDAR
VERSION:2.0
PRODID:-//https://taneycountyrepublicans.org.patriotsaroundthelake.com//NONSGML kigkonsult.se iCalcreator 2.41.71//
CALSCALE:GREGORIAN
METHOD:PUBLISH
UID:34303961-3432-4238-a465-333466383131
X-WR-CALNAME:JCal Pro Calendar
X-WR-CALDESC:Your online events calendar
X-WR-TIMEZONE:America/Chicago
BEGIN:VTIMEZONE
TZID:America/Chicago
TZUNTIL:20271107T070000Z
BEGIN:STANDARD
TZNAME:CST
DTSTART:20251102T020000
TZOFFSETFROM:-0500
TZOFFSETTO:-0600
RDATE:20261101T020000
END:STANDARD
BEGIN:DAYLIGHT
TZNAME:CDT
DTSTART:20260308T020000
TZOFFSETFROM:-0600
TZOFFSETTO:-0500
RDATE:20270314T020000
END:DAYLIGHT
END:VTIMEZONE
BEGIN:VEVENT
UID:20251202T000000UTC-0401Ee7jj6@https://taneycountyrepublicans.org/
DTSTAMP:20260425T011348Z
CATEGORIES:This Day in Missouri
DESCRIPTION:<p><span style='font-family: arial\, helvetica\, sans-serif\; f
 ont-size: 12pt\; color: #000000\;'>On December 2\, the following notable h
 istorical events related to Missouri occurred:</span></p>\n<ul>\n<li><span
  style='font-family: arial\, helvetica\, sans-serif\; font-size: 12pt\; co
 lor: #000000\;'>1806: Zebulon Pike’s expedition\, launched from St. Louis 
 to explore the southern Louisiana Purchase\, continued its journey along t
 he Arkansas River\, though no specific Missouri activity is recorded for t
 his date.</span></li>\n<li><span style='font-family: arial\, helvetica\, s
 ans-serif\; font-size: 12pt\; color: #000000\;'>1856: During the “Bleeding
  Kansas” conflict\, pro-slavery “Border Ruffians” from Missouri persisted 
 in raids on Kansas anti-slavery settlements\, fueling violent disputes ove
 r the territory’s slavery status.</span></li>\n<li><span style='font-famil
 y: arial\, helvetica\, sans-serif\; font-size: 12pt\; color: #000000\;'>18
 61: In the Civil War\, Union General Henry W. Halleck\, based in St. Louis
 \, strengthened federal defenses\, while Confederate guerrillas launched r
 aids in rural Missouri\, escalating internal tensions.</span></li>\n<li><s
 pan style='font-family: arial\, helvetica\, sans-serif\; font-size: 12pt\;
  color: #000000\;'>1864: Following Confederate General Sterling Price’s fa
 iled Missouri campaign\, his forces\, including Missouri troops\, were reg
 rouping in Arkansas after October defeats\, with some logistical activity 
 likely around this date.</span></li>\n<li><span style='font-family: arial\
 , helvetica\, sans-serif\; font-size: 12pt\; color: #000000\;'>1888: The M
 issouri Pacific Railroad advanced its southeast Missouri lines\, connectin
 g towns like Cape Girardeau to national markets\, spurring economic growth
  and regional development.</span></li>\n<li><span style='font-family: aria
 l\, helvetica\, sans-serif\; font-size: 12pt\; color: #000000\;'>1929: The
  Great Depression deepened in Missouri\, with Kansas City and St. Louis fa
 cing mass unemployment\, widespread business failures\, and bank closures\
 , severely impacting the state’s economy.</span></li>\n<li><span style='fo
 nt-family: arial\, helvetica\, sans-serif\; font-size: 12pt\; color: #0000
 00\;'>1963: Missouri communities\, including St. Louis and Kansas City\, c
 ontinued memorial services for President John F. Kennedy\, assassinated te
 n days prior\, reflecting the nation’s prolonged mourning.</span></li>\n</
 ul>
DTSTART;TZID=America/Chicago:20251202T000000
DTEND;TZID=America/Chicago:20251202T235959
RRULE:FREQ=YEARLY;COUNT=3;INTERVAL=1
SUMMARY:December 2nd This Day in Missouri
URL:https://taneycountyrepublicans.org.patriotsaroundthelake.com/odds-n-end
 s/this-week-in-missouri/24-this-day-in-missouri/2292-december-2nd-this-day
 -in-missouri.html
X-ALT-DESC;FMTTYPE=TEXT/HTML:<p><span style='font-family: arial\, helvetica
 \, sans-serif\; font-size: 12pt\; color: #000000\;'>On December 2\, the fo
 llowing notable historical events related to Missouri occurred:</span></p>
 \n<ul>\n<li><span style='font-family: arial\, helvetica\, sans-serif\; fon
 t-size: 12pt\; color: #000000\;'>1806: Zebulon Pike’s expedition\, launche
 d from St. Louis to explore the southern Louisiana Purchase\, continued it
 s journey along the Arkansas River\, though no specific Missouri activity 
 is recorded for this date.</span></li>\n<li><span style='font-family: aria
 l\, helvetica\, sans-serif\; font-size: 12pt\; color: #000000\;'>1856: Dur
 ing the “Bleeding Kansas” conflict\, pro-slavery “Border Ruffians” from Mi
 ssouri persisted in raids on Kansas anti-slavery settlements\, fueling vio
 lent disputes over the territory’s slavery status.</span></li>\n<li><span 
 style='font-family: arial\, helvetica\, sans-serif\; font-size: 12pt\; col
 or: #000000\;'>1861: In the Civil War\, Union General Henry W. Halleck\, b
 ased in St. Louis\, strengthened federal defenses\, while Confederate guer
 rillas launched raids in rural Missouri\, escalating internal tensions.</s
 pan></li>\n<li><span style='font-family: arial\, helvetica\, sans-serif\; 
 font-size: 12pt\; color: #000000\;'>1864: Following Confederate General St
 erling Price’s failed Missouri campaign\, his forces\, including Missouri 
 troops\, were regrouping in Arkansas after October defeats\, with some log
 istical activity likely around this date.</span></li>\n<li><span style='fo
 nt-family: arial\, helvetica\, sans-serif\; font-size: 12pt\; color: #0000
 00\;'>1888: The Missouri Pacific Railroad advanced its southeast Missouri 
 lines\, connecting towns like Cape Girardeau to national markets\, spurrin
 g economic growth and regional development.</span></li>\n<li><span style='
 font-family: arial\, helvetica\, sans-serif\; font-size: 12pt\; color: #00
 0000\;'>1929: The Great Depression deepened in Missouri\, with Kansas City
  and St. Louis facing mass unemployment\, widespread business failures\, a
 nd bank closures\, severely impacting the state’s economy.</span></li>\n<l
 i><span style='font-family: arial\, helvetica\, sans-serif\; font-size: 12
 pt\; color: #000000\;'>1963: Missouri communities\, including St. Louis an
 d Kansas City\, continued memorial services for President John F. Kennedy\
 , assassinated ten days prior\, reflecting the nation’s prolonged mourning
 .</span></li>\n</ul>
END:VEVENT
END:VCALENDAR
