BEGIN:VCALENDAR
VERSION:2.0
PRODID:-//https://taneycountyrepublicans.org.patriotsaroundthelake.com//NONSGML kigkonsult.se iCalcreator 2.41.71//
CALSCALE:GREGORIAN
METHOD:PUBLISH
UID:64636164-3561-4563-b337-633739343138
X-WR-CALNAME:JCal Pro Calendar
X-WR-CALDESC:Your online events calendar
X-WR-TIMEZONE:America/Chicago
BEGIN:VTIMEZONE
TZID:America/Chicago
TZUNTIL:20271107T070000Z
BEGIN:STANDARD
TZNAME:CST
DTSTART:20251102T020000
TZOFFSETFROM:-0500
TZOFFSETTO:-0600
RDATE:20261101T020000
END:STANDARD
BEGIN:DAYLIGHT
TZNAME:CDT
DTSTART:20260308T020000
TZOFFSETFROM:-0600
TZOFFSETTO:-0500
RDATE:20270314T020000
END:DAYLIGHT
END:VTIMEZONE
BEGIN:VEVENT
UID:20251204T000000UTC-3710KHpgK9@https://taneycountyrepublicans.org/
DTSTAMP:20260425T011417Z
CATEGORIES:This Day in Missouri
DESCRIPTION:<p><span style='font-family: arial\, helvetica\, sans-serif\; f
 ont-size: 12pt\; color: #000000\;'>On December 4\, the following notable h
 istorical events related to Missouri occurred:</span></p>\n<ul>\n<li><span
  style='font-family: arial\, helvetica\, sans-serif\; font-size: 12pt\; co
 lor: #000000\;'>1806: Zebulon Pike’s expedition\, launched from St. Louis 
 to map the southern Louisiana Purchase\, continued its exploration along t
 he Arkansas River\, though no specific Missouri activity is recorded for t
 his date.</span></li>\n<li><span style='font-family: arial\, helvetica\, s
 ans-serif\; font-size: 12pt\; color: #000000\;'>1856: During the “Bleeding
  Kansas” conflict\, pro-slavery “Border Ruffians” from Missouri raided Kan
 sas anti-slavery settlements\, escalating violent disputes over the territ
 ory’s slavery status.</span></li>\n<li><span style='font-family: arial\, h
 elvetica\, sans-serif\; font-size: 12pt\; color: #000000\;'>1861: In the C
 ivil War\, Union General Henry W. Halleck\, based in St. Louis\, fortified
  federal control\, while Confederate guerrillas conducted raids in rural M
 issouri\, deepening the state’s internal conflict.</span></li>\n<li><span 
 style='font-family: arial\, helvetica\, sans-serif\; font-size: 12pt\; col
 or: #000000\;'>1864: Following Confederate General Sterling Price’s failed
  Missouri campaign\, his forces\, including Missouri troops\, were regroup
 ing in Arkansas after October defeats\, with logistical efforts likely aro
 und this date.</span></li>\n<li><span style='font-family: arial\, helvetic
 a\, sans-serif\; font-size: 12pt\; color: #000000\;'>1888: The Missouri Pa
 cific Railroad extended its southeast Missouri lines\, connecting towns li
 ke Cape Girardeau to national trade networks\, driving economic and agricu
 ltural expansion.</span></li>\n<li><span style='font-family: arial\, helve
 tica\, sans-serif\; font-size: 12pt\; color: #000000\;'>1929: The Great De
 pression ravaged Missouri\, with Kansas City and St. Louis facing mass une
 mployment\, widespread business failures\, and bank closures\, severely im
 pacting the state’s economy.</span></li>\n<li><span style='font-family: ar
 ial\, helvetica\, sans-serif\; font-size: 12pt\; color: #000000\;'>1963: M
 issouri communities\, including St. Louis and Kansas City\, continued memo
 rial services for President John F. Kennedy\, assassinated twelve days pri
 or\, reflecting the nation’s ongoing grief.</span></li>\n</ul>
DTSTART;TZID=America/Chicago:20251204T000000
DTEND;TZID=America/Chicago:20251204T235959
RRULE:FREQ=YEARLY;COUNT=3;INTERVAL=1
SUMMARY:December 4th This Day in Missouri
URL:https://taneycountyrepublicans.org.patriotsaroundthelake.com/odds-n-end
 s/this-week-in-missouri/24-this-day-in-missouri/2298-december-4th-this-day
 -in-missouri.html
X-ALT-DESC;FMTTYPE=TEXT/HTML:<p><span style='font-family: arial\, helvetica
 \, sans-serif\; font-size: 12pt\; color: #000000\;'>On December 4\, the fo
 llowing notable historical events related to Missouri occurred:</span></p>
 \n<ul>\n<li><span style='font-family: arial\, helvetica\, sans-serif\; fon
 t-size: 12pt\; color: #000000\;'>1806: Zebulon Pike’s expedition\, launche
 d from St. Louis to map the southern Louisiana Purchase\, continued its ex
 ploration along the Arkansas River\, though no specific Missouri activity 
 is recorded for this date.</span></li>\n<li><span style='font-family: aria
 l\, helvetica\, sans-serif\; font-size: 12pt\; color: #000000\;'>1856: Dur
 ing the “Bleeding Kansas” conflict\, pro-slavery “Border Ruffians” from Mi
 ssouri raided Kansas anti-slavery settlements\, escalating violent dispute
 s over the territory’s slavery status.</span></li>\n<li><span style='font-
 family: arial\, helvetica\, sans-serif\; font-size: 12pt\; color: #000000\
 ;'>1861: In the Civil War\, Union General Henry W. Halleck\, based in St. 
 Louis\, fortified federal control\, while Confederate guerrillas conducted
  raids in rural Missouri\, deepening the state’s internal conflict.</span>
 </li>\n<li><span style='font-family: arial\, helvetica\, sans-serif\; font
 -size: 12pt\; color: #000000\;'>1864: Following Confederate General Sterli
 ng Price’s failed Missouri campaign\, his forces\, including Missouri troo
 ps\, were regrouping in Arkansas after October defeats\, with logistical e
 fforts likely around this date.</span></li>\n<li><span style='font-family:
  arial\, helvetica\, sans-serif\; font-size: 12pt\; color: #000000\;'>1888
 : The Missouri Pacific Railroad extended its southeast Missouri lines\, co
 nnecting towns like Cape Girardeau to national trade networks\, driving ec
 onomic and agricultural expansion.</span></li>\n<li><span style='font-fami
 ly: arial\, helvetica\, sans-serif\; font-size: 12pt\; color: #000000\;'>1
 929: The Great Depression ravaged Missouri\, with Kansas City and St. Loui
 s facing mass unemployment\, widespread business failures\, and bank closu
 res\, severely impacting the state’s economy.</span></li>\n<li><span style
 ='font-family: arial\, helvetica\, sans-serif\; font-size: 12pt\; color: #
 000000\;'>1963: Missouri communities\, including St. Louis and Kansas City
 \, continued memorial services for President John F. Kennedy\, assassinate
 d twelve days prior\, reflecting the nation’s ongoing grief.</span></li>\n
 </ul>
END:VEVENT
END:VCALENDAR
