BEGIN:VCALENDAR
VERSION:2.0
PRODID:-//https://taneycountyrepublicans.org.patriotsaroundthelake.com//NONSGML kigkonsult.se iCalcreator 2.41.71//
CALSCALE:GREGORIAN
METHOD:PUBLISH
UID:31303531-6163-4737-b238-353433393634
X-WR-CALNAME:JCal Pro Calendar
X-WR-CALDESC:Your online events calendar
X-WR-TIMEZONE:America/Chicago
BEGIN:VTIMEZONE
TZID:America/Chicago
TZUNTIL:20271107T070000Z
BEGIN:STANDARD
TZNAME:CST
DTSTART:20251102T020000
TZOFFSETFROM:-0500
TZOFFSETTO:-0600
RDATE:20261101T020000
END:STANDARD
BEGIN:DAYLIGHT
TZNAME:CDT
DTSTART:20260308T020000
TZOFFSETFROM:-0600
TZOFFSETTO:-0500
RDATE:20270314T020000
END:DAYLIGHT
END:VTIMEZONE
BEGIN:VEVENT
UID:20251206T000000UTC-94126oWhcn@https://taneycountyrepublicans.org/
DTSTAMP:20260425T011424Z
CATEGORIES:This Day in Missouri
DESCRIPTION:<p><span style='font-family: arial\, helvetica\, sans-serif\; f
 ont-size: 12pt\; color: #000000\;'>On December 6\, the following notable h
 istorical events related to Missouri occurred:</span></p>\n<ul>\n<li><span
  style='font-family: arial\, helvetica\, sans-serif\; font-size: 12pt\; co
 lor: #000000\;'>1806: Zebulon Pike’s expedition\, launched from St. Louis 
 to explore the southern Louisiana Purchase\, continued its journey along t
 he Arkansas River\, though no specific Missouri activity is recorded for t
 his date.</span></li>\n<li><span style='font-family: arial\, helvetica\, s
 ans-serif\; font-size: 12pt\; color: #000000\;'>1856: During the “Bleeding
  Kansas” conflict\, pro-slavery “Border Ruffians” from Missouri raided Kan
 sas anti-slavery settlements\, escalating violence over the territory’s sl
 avery status.</span></li>\n<li><span style='font-family: arial\, helvetica
 \, sans-serif\; font-size: 12pt\; color: #000000\;'>1861: In the Civil War
 \, Union General Henry W. Halleck\, based in St. Louis\, reinforced federa
 l control\, while Confederate guerrillas conducted raids in rural Missouri
 \, deepening the state’s internal divisions.</span></li>\n<li><span style=
 'font-family: arial\, helvetica\, sans-serif\; font-size: 12pt\; color: #0
 00000\;'>1864: Following Confederate General Sterling Price’s failed Misso
 uri campaign\, his forces\, including Missouri troops\, were regrouping in
  Arkansas after October defeats\, with logistical activities likely around
  this date.</span></li>\n<li><span style='font-family: arial\, helvetica\,
  sans-serif\; font-size: 12pt\; color: #000000\;'>1888: The Missouri Pacif
 ic Railroad expanded its southeast Missouri lines\, connecting towns like 
 Cape Girardeau to national markets\, fostering economic and agricultural g
 rowth.</span></li>\n<li><span style='font-family: arial\, helvetica\, sans
 -serif\; font-size: 12pt\; color: #000000\;'>1929: The Great Depression de
 vastated Missouri\, with Kansas City and St. Louis facing mass unemploymen
 t\, widespread business closures\, and bank failures\, crippling the state
 ’s economy.</span></li>\n<li><span style='font-family: arial\, helvetica\,
  sans-serif\; font-size: 12pt\; color: #000000\;'>1963: Missouri communiti
 es\, including St. Louis and Kansas City\, continued memorial services for
  President John F. Kennedy\, assassinated fourteen days prior\, reflecting
  the nation’s prolonged mourning.</span></li>\n</ul>
DTSTART;TZID=America/Chicago:20251206T000000
DTEND;TZID=America/Chicago:20251206T235959
RRULE:FREQ=YEARLY;COUNT=3;INTERVAL=1
SUMMARY:December 6th This Day in Missouri
URL:https://taneycountyrepublicans.org.patriotsaroundthelake.com/odds-n-end
 s/this-week-in-missouri/24-this-day-in-missouri/2304-december-6th-this-day
 -in-missouri.html
X-ALT-DESC;FMTTYPE=TEXT/HTML:<p><span style='font-family: arial\, helvetica
 \, sans-serif\; font-size: 12pt\; color: #000000\;'>On December 6\, the fo
 llowing notable historical events related to Missouri occurred:</span></p>
 \n<ul>\n<li><span style='font-family: arial\, helvetica\, sans-serif\; fon
 t-size: 12pt\; color: #000000\;'>1806: Zebulon Pike’s expedition\, launche
 d from St. Louis to explore the southern Louisiana Purchase\, continued it
 s journey along the Arkansas River\, though no specific Missouri activity 
 is recorded for this date.</span></li>\n<li><span style='font-family: aria
 l\, helvetica\, sans-serif\; font-size: 12pt\; color: #000000\;'>1856: Dur
 ing the “Bleeding Kansas” conflict\, pro-slavery “Border Ruffians” from Mi
 ssouri raided Kansas anti-slavery settlements\, escalating violence over t
 he territory’s slavery status.</span></li>\n<li><span style='font-family: 
 arial\, helvetica\, sans-serif\; font-size: 12pt\; color: #000000\;'>1861:
  In the Civil War\, Union General Henry W. Halleck\, based in St. Louis\, 
 reinforced federal control\, while Confederate guerrillas conducted raids 
 in rural Missouri\, deepening the state’s internal divisions.</span></li>
 \n<li><span style='font-family: arial\, helvetica\, sans-serif\; font-size
 : 12pt\; color: #000000\;'>1864: Following Confederate General Sterling Pr
 ice’s failed Missouri campaign\, his forces\, including Missouri troops\, 
 were regrouping in Arkansas after October defeats\, with logistical activi
 ties likely around this date.</span></li>\n<li><span style='font-family: a
 rial\, helvetica\, sans-serif\; font-size: 12pt\; color: #000000\;'>1888: 
 The Missouri Pacific Railroad expanded its southeast Missouri lines\, conn
 ecting towns like Cape Girardeau to national markets\, fostering economic 
 and agricultural growth.</span></li>\n<li><span style='font-family: arial\
 , helvetica\, sans-serif\; font-size: 12pt\; color: #000000\;'>1929: The G
 reat Depression devastated Missouri\, with Kansas City and St. Louis facin
 g mass unemployment\, widespread business closures\, and bank failures\, c
 rippling the state’s economy.</span></li>\n<li><span style='font-family: a
 rial\, helvetica\, sans-serif\; font-size: 12pt\; color: #000000\;'>1963: 
 Missouri communities\, including St. Louis and Kansas City\, continued mem
 orial services for President John F. Kennedy\, assassinated fourteen days 
 prior\, reflecting the nation’s prolonged mourning.</span></li>\n</ul>
END:VEVENT
END:VCALENDAR
