BEGIN:VCALENDAR
VERSION:2.0
PRODID:-//https://taneycountyrepublicans.org.patriotsaroundthelake.com//NONSGML kigkonsult.se iCalcreator 2.41.71//
CALSCALE:GREGORIAN
METHOD:PUBLISH
UID:31346630-6564-4964-b265-636538383138
X-WR-CALNAME:JCal Pro Calendar
X-WR-CALDESC:Your online events calendar
X-WR-TIMEZONE:America/Chicago
BEGIN:VTIMEZONE
TZID:America/Chicago
TZUNTIL:20271107T070000Z
BEGIN:STANDARD
TZNAME:CST
DTSTART:20251102T020000
TZOFFSETFROM:-0500
TZOFFSETTO:-0600
RDATE:20261101T020000
END:STANDARD
BEGIN:DAYLIGHT
TZNAME:CDT
DTSTART:20260308T020000
TZOFFSETFROM:-0600
TZOFFSETTO:-0500
RDATE:20270314T020000
END:DAYLIGHT
END:VTIMEZONE
BEGIN:VEVENT
UID:20251228T110000UTC-1870u2aRmc@https://taneycountyrepublicans.org/
DTSTAMP:20260425T011515Z
CATEGORIES:This Day in Missouri
DESCRIPTION:<p><span style='font-family: arial\, helvetica\, sans-serif\; f
 ont-size: 12pt\; color: #000000\;'>On December 28\, the following notable 
 historical events related to Missouri occurred:</span></p>\n<ul>\n<li><spa
 n style='font-family: arial\, helvetica\, sans-serif\; font-size: 12pt\; c
 olor: #000000\;'>1806: Zebulon Pike’s expedition\, launched from St. Louis
  to explore the southern Louisiana Purchase\, continued its journey along 
 the Arkansas River\, though no specific Missouri activity is recorded for 
 this date\, likely due to the post-Christmas period.</span></li>\n<li><spa
 n style='font-family: arial\, helvetica\, sans-serif\; font-size: 12pt\; c
 olor: #000000\;'>1856: During the “Bleeding Kansas” conflict\, pro-slavery
  “Border Ruffians” from Missouri raided Kansas anti-slavery settlements\, 
 with ongoing tensions fueling violence over the territory’s slavery status
 \, though activities may have been quieter after Christmas.</span></li>\n<
 li><span style='font-family: arial\, helvetica\, sans-serif\; font-size: 1
 2pt\; color: #000000\;'>1861: In the Civil War\, Union General Henry W. Ha
 lleck\, based in St. Louis\, reinforced federal defenses\, while Confedera
 te guerrilla raids in rural Missouri likely resumed post-Christmas\, deepe
 ning the state’s internal divisions.</span></li>\n<li><span style='font-fa
 mily: arial\, helvetica\, sans-serif\; font-size: 12pt\; color: #000000\;'
 >1864: Following Confederate General Sterling Price’s failed Missouri camp
 aign\, his forces\, including Missouri units\, were reorganizing in Arkans
 as after October defeats\, with minimal logistical activity likely due to 
 the holiday season.</span></li>\n<li><span style='font-family: arial\, hel
 vetica\, sans-serif\; font-size: 12pt\; color: #000000\;'>1888: The Missou
 ri Pacific Railroad extended its southeast Missouri network\, connecting t
 owns like Cape Girardeau to national markets\, driving economic growth\, t
 hough operations likely slowed during the holiday period.</span></li>\n<li
 ><span style='font-family: arial\, helvetica\, sans-serif\; font-size: 12p
 t\; color: #000000\;'>1929: The Great Depression ravaged Missouri\, with K
 ansas City and St. Louis facing mass unemployment and business closures\, 
 while post-Christmas community relief efforts sought to mitigate economic 
 hardship.</span></li>\n<li><span style='font-family: arial\, helvetica\, s
 ans-serif\; font-size: 12pt\; color: #000000\;'>1941: Missouri communities
 \, including St. Louis and Kansas City\, intensified World War II mobiliza
 tion post-Pearl Harbor\, with local factories resuming war production and 
 recruitment efforts accelerating after the Christmas season.</span></li>\n
 </ul>
DTSTART;TZID=America/Chicago:20251228T000000
DTEND;TZID=America/Chicago:20251228T235959
RRULE:FREQ=YEARLY;COUNT=3;INTERVAL=1
SUMMARY:December 28th This Day in Missouri
URL:https://taneycountyrepublicans.org.patriotsaroundthelake.com/odds-n-end
 s/this-week-in-missouri/24-this-day-in-missouri/2370-december-28th-this-da
 y-in-missouri.html
X-ALT-DESC;FMTTYPE=TEXT/HTML:<p><span style='font-family: arial\, helvetica
 \, sans-serif\; font-size: 12pt\; color: #000000\;'>On December 28\, the f
 ollowing notable historical events related to Missouri occurred:</span></p
 >\n<ul>\n<li><span style='font-family: arial\, helvetica\, sans-serif\; fo
 nt-size: 12pt\; color: #000000\;'>1806: Zebulon Pike’s expedition\, launch
 ed from St. Louis to explore the southern Louisiana Purchase\, continued i
 ts journey along the Arkansas River\, though no specific Missouri activity
  is recorded for this date\, likely due to the post-Christmas period.</spa
 n></li>\n<li><span style='font-family: arial\, helvetica\, sans-serif\; fo
 nt-size: 12pt\; color: #000000\;'>1856: During the “Bleeding Kansas” confl
 ict\, pro-slavery “Border Ruffians” from Missouri raided Kansas anti-slave
 ry settlements\, with ongoing tensions fueling violence over the territory
 ’s slavery status\, though activities may have been quieter after Christma
 s.</span></li>\n<li><span style='font-family: arial\, helvetica\, sans-ser
 if\; font-size: 12pt\; color: #000000\;'>1861: In the Civil War\, Union Ge
 neral Henry W. Halleck\, based in St. Louis\, reinforced federal defenses\
 , while Confederate guerrilla raids in rural Missouri likely resumed post-
 Christmas\, deepening the state’s internal divisions.</span></li>\n<li><sp
 an style='font-family: arial\, helvetica\, sans-serif\; font-size: 12pt\; 
 color: #000000\;'>1864: Following Confederate General Sterling Price’s fai
 led Missouri campaign\, his forces\, including Missouri units\, were reorg
 anizing in Arkansas after October defeats\, with minimal logistical activi
 ty likely due to the holiday season.</span></li>\n<li><span style='font-fa
 mily: arial\, helvetica\, sans-serif\; font-size: 12pt\; color: #000000\;'
 >1888: The Missouri Pacific Railroad extended its southeast Missouri netwo
 rk\, connecting towns like Cape Girardeau to national markets\, driving ec
 onomic growth\, though operations likely slowed during the holiday period.
 </span></li>\n<li><span style='font-family: arial\, helvetica\, sans-serif
 \; font-size: 12pt\; color: #000000\;'>1929: The Great Depression ravaged 
 Missouri\, with Kansas City and St. Louis facing mass unemployment and bus
 iness closures\, while post-Christmas community relief efforts sought to m
 itigate economic hardship.</span></li>\n<li><span style='font-family: aria
 l\, helvetica\, sans-serif\; font-size: 12pt\; color: #000000\;'>1941: Mis
 souri communities\, including St. Louis and Kansas City\, intensified Worl
 d War II mobilization post-Pearl Harbor\, with local factories resuming wa
 r production and recruitment efforts accelerating after the Christmas seas
 on.</span></li>\n</ul>
END:VEVENT
END:VCALENDAR
