BEGIN:VCALENDAR
VERSION:2.0
PRODID:-//https://taneycountyrepublicans.org.patriotsaroundthelake.com//NONSGML kigkonsult.se iCalcreator 2.41.71//
CALSCALE:GREGORIAN
METHOD:PUBLISH
UID:65616339-6637-4236-b538-353266346662
X-WR-CALNAME:JCal Pro Calendar
X-WR-CALDESC:Your online events calendar
X-WR-TIMEZONE:America/Chicago
BEGIN:VTIMEZONE
TZID:America/Chicago
TZUNTIL:20271107T070000Z
BEGIN:STANDARD
TZNAME:CST
DTSTART:20251102T020000
TZOFFSETFROM:-0500
TZOFFSETTO:-0600
RDATE:20261101T020000
END:STANDARD
BEGIN:DAYLIGHT
TZNAME:CDT
DTSTART:20260308T020000
TZOFFSETFROM:-0600
TZOFFSETTO:-0500
RDATE:20270314T020000
END:DAYLIGHT
END:VTIMEZONE
BEGIN:VEVENT
UID:20251229T000000UTC-91935vdfg3@https://taneycountyrepublicans.org/
DTSTAMP:20260425T011425Z
CATEGORIES:This Day in Missouri
DESCRIPTION:<p><span style='font-family: arial\, helvetica\, sans-serif\; f
 ont-size: 12pt\; color: #000000\;'>On December 29\, the following notable 
 historical events related to Missouri occurred:</span></p>\n<ul>\n<li><spa
 n style='font-family: arial\, helvetica\, sans-serif\; font-size: 12pt\; c
 olor: #000000\;'>1806: Zebulon Pike’s expedition\, sent from St. Louis to 
 explore the southern Louisiana Purchase\, continued mapping the Arkansas R
 iver region\, though no specific Missouri event is documented for this dat
 e\, likely due to the post-Christmas slowdown.</span></li>\n<li><span styl
 e='font-family: arial\, helvetica\, sans-serif\; font-size: 12pt\; color: 
 #000000\;'>1856: In the “Bleeding Kansas” crisis\, pro-slavery “Border Ruf
 fians” from Missouri persisted in raiding Kansas anti-slavery settlements\
 , fueling violent clashes over the territory’s slavery status\, though act
 ivities may have been reduced post-Christmas.</span></li>\n<li><span style
 ='font-family: arial\, helvetica\, sans-serif\; font-size: 12pt\; color: #
 000000\;'>1861: During the Civil War\, Union General Henry W. Halleck\, co
 mmanding from St. Louis\, strengthened federal control\, while Confederate
  guerrilla raids resumed in rural Missouri after Christmas\, intensifying 
 the state’s internal conflict.</span></li>\n<li><span style='font-family: 
 arial\, helvetica\, sans-serif\; font-size: 12pt\; color: #000000\;'>1864:
  After Confederate General Sterling Price’s failed Missouri campaign\, his
  forces\, including Missouri units\, were regrouping in Arkansas following
  October defeats\, with minimal activity likely during the holiday season.
 </span></li>\n<li><span style='font-family: arial\, helvetica\, sans-serif
 \; font-size: 12pt\; color: #000000\;'>1888: The Missouri Pacific Railroad
  advanced its southeast Missouri network\, connecting towns like Cape Gira
 rdeau to national markets\, fostering economic growth\, though operations 
 likely slowed during the holiday period.</span></li>\n<li><span style='fon
 t-family: arial\, helvetica\, sans-serif\; font-size: 12pt\; color: #00000
 0\;'>1929: The Great Depression devastated Missouri\, with Kansas City and
  St. Louis facing mass unemployment and business failures\, while post-Chr
 istmas relief efforts attempted to alleviate widespread economic hardship.
 </span></li>\n<li><span style='font-family: arial\, helvetica\, sans-serif
 \; font-size: 12pt\; color: #000000\;'>1941: Missouri communities\, includ
 ing St. Louis and Kansas City\, escalated World War II mobilization post-P
 earl Harbor\, with local industries resuming war production and recruitmen
 t drives intensifying after the Christmas season.</span></li>\n</ul>
DTSTART;TZID=America/Chicago:20251229T000000
DTEND;TZID=America/Chicago:20251229T235959
RRULE:FREQ=YEARLY;COUNT=3;INTERVAL=1
SUMMARY:December 29th This Day in Missouri
URL:https://taneycountyrepublicans.org.patriotsaroundthelake.com/odds-n-end
 s/this-week-in-missouri/24-this-day-in-missouri/2373-december-29th-this-da
 y-in-missouri.html
X-ALT-DESC;FMTTYPE=TEXT/HTML:<p><span style='font-family: arial\, helvetica
 \, sans-serif\; font-size: 12pt\; color: #000000\;'>On December 29\, the f
 ollowing notable historical events related to Missouri occurred:</span></p
 >\n<ul>\n<li><span style='font-family: arial\, helvetica\, sans-serif\; fo
 nt-size: 12pt\; color: #000000\;'>1806: Zebulon Pike’s expedition\, sent f
 rom St. Louis to explore the southern Louisiana Purchase\, continued mappi
 ng the Arkansas River region\, though no specific Missouri event is docume
 nted for this date\, likely due to the post-Christmas slowdown.</span></li
 >\n<li><span style='font-family: arial\, helvetica\, sans-serif\; font-siz
 e: 12pt\; color: #000000\;'>1856: In the “Bleeding Kansas” crisis\, pro-sl
 avery “Border Ruffians” from Missouri persisted in raiding Kansas anti-sla
 very settlements\, fueling violent clashes over the territory’s slavery st
 atus\, though activities may have been reduced post-Christmas.</span></li>
 \n<li><span style='font-family: arial\, helvetica\, sans-serif\; font-size
 : 12pt\; color: #000000\;'>1861: During the Civil War\, Union General Henr
 y W. Halleck\, commanding from St. Louis\, strengthened federal control\, 
 while Confederate guerrilla raids resumed in rural Missouri after Christma
 s\, intensifying the state’s internal conflict.</span></li>\n<li><span sty
 le='font-family: arial\, helvetica\, sans-serif\; font-size: 12pt\; color:
  #000000\;'>1864: After Confederate General Sterling Price’s failed Missou
 ri campaign\, his forces\, including Missouri units\, were regrouping in A
 rkansas following October defeats\, with minimal activity likely during th
 e holiday season.</span></li>\n<li><span style='font-family: arial\, helve
 tica\, sans-serif\; font-size: 12pt\; color: #000000\;'>1888: The Missouri
  Pacific Railroad advanced its southeast Missouri network\, connecting tow
 ns like Cape Girardeau to national markets\, fostering economic growth\, t
 hough operations likely slowed during the holiday period.</span></li>\n<li
 ><span style='font-family: arial\, helvetica\, sans-serif\; font-size: 12p
 t\; color: #000000\;'>1929: The Great Depression devastated Missouri\, wit
 h Kansas City and St. Louis facing mass unemployment and business failures
 \, while post-Christmas relief efforts attempted to alleviate widespread e
 conomic hardship.</span></li>\n<li><span style='font-family: arial\, helve
 tica\, sans-serif\; font-size: 12pt\; color: #000000\;'>1941: Missouri com
 munities\, including St. Louis and Kansas City\, escalated World War II mo
 bilization post-Pearl Harbor\, with local industries resuming war producti
 on and recruitment drives intensifying after the Christmas season.</span><
 /li>\n</ul>
END:VEVENT
END:VCALENDAR
