BEGIN:VCALENDAR
VERSION:2.0
PRODID:-//https://taneycountyrepublicans.org.patriotsaroundthelake.com//NONSGML kigkonsult.se iCalcreator 2.41.71//
CALSCALE:GREGORIAN
METHOD:PUBLISH
UID:64353639-6161-4962-b132-373930306461
X-WR-CALNAME:JCal Pro Calendar
X-WR-CALDESC:Your online events calendar
X-WR-TIMEZONE:America/Chicago
BEGIN:VTIMEZONE
TZID:America/Chicago
TZUNTIL:20271107T070000Z
BEGIN:STANDARD
TZNAME:CST
DTSTART:20251102T020000
TZOFFSETFROM:-0500
TZOFFSETTO:-0600
RDATE:20261101T020000
END:STANDARD
BEGIN:DAYLIGHT
TZNAME:CDT
DTSTART:20260308T020000
TZOFFSETFROM:-0600
TZOFFSETTO:-0500
RDATE:20270314T020000
END:DAYLIGHT
END:VTIMEZONE
BEGIN:VEVENT
UID:20251230T000000UTC-0780ej0a6d@https://taneycountyrepublicans.org/
DTSTAMP:20260425T011424Z
CATEGORIES:This Day in Missouri
DESCRIPTION:<p><span style='font-family: arial\, helvetica\, sans-serif\; f
 ont-size: 12pt\; color: #000000\;'>On December 30\, the following notable 
 historical events related to Missouri occurred:</span></p>\n<ul>\n<li><spa
 n style='font-family: arial\, helvetica\, sans-serif\; font-size: 12pt\; c
 olor: #000000\;'>1806: Zebulon Pike’s expedition\, launched from St. Louis
  to explore the southern Louisiana Purchase\, continued its journey along 
 the Arkansas River\, though no specific Missouri activity is recorded for 
 this date\, likely due to the post-Christmas slowdown.</span></li>\n<li><s
 pan style='font-family: arial\, helvetica\, sans-serif\; font-size: 12pt\;
  color: #000000\;'>1856: During the “Bleeding Kansas” conflict\, pro-slave
 ry “Border Ruffians” from Missouri raided Kansas anti-slavery settlements\
 , escalating violent disputes over the territory’s slavery status\, though
  activities may have been quieter during the holiday season.</span></li>\n
 <li><span style='font-family: arial\, helvetica\, sans-serif\; font-size: 
 12pt\; color: #000000\;'>1861: In the Civil War\, Union General Henry W. H
 alleck\, based in St. Louis\, reinforced federal defenses\, while Confeder
 ate guerrilla raids in rural Missouri likely resumed post-Christmas\, deep
 ening the state’s internal divisions.</span></li>\n<li><span style='font-f
 amily: arial\, helvetica\, sans-serif\; font-size: 12pt\; color: #000000\;
 '>1864: Following Confederate General Sterling Price’s failed Missouri cam
 paign\, his forces\, including Missouri troops\, were regrouping in Arkans
 as after October defeats\, with minimal logistical activity likely due to 
 the holiday period.</span></li>\n<li><span style='font-family: arial\, hel
 vetica\, sans-serif\; font-size: 12pt\; color: #000000\;'>1888: The Missou
 ri Pacific Railroad extended its southeast Missouri network\, connecting t
 owns like Cape Girardeau to national markets\, driving economic growth\, t
 hough operations likely slowed during the holiday season.</span></li>\n<li
 ><span style='font-family: arial\, helvetica\, sans-serif\; font-size: 12p
 t\; color: #000000\;'>1929: The Great Depression ravaged Missouri\, with K
 ansas City and St. Louis facing mass unemployment and business closures\, 
 while post-Christmas relief efforts sought to mitigate widespread economic
  hardship.</span></li>\n<li><span style='font-family: arial\, helvetica\, 
 sans-serif\; font-size: 12pt\; color: #000000\;'>1941: Missouri communitie
 s\, including St. Louis and Kansas City\, intensified World War II mobiliz
 ation post-Pearl Harbor\, with local factories resuming war production and
  recruitment efforts accelerating after the Christmas season.</span></li>
 \n</ul>
DTSTART;TZID=America/Chicago:20251230T000000
DTEND;TZID=America/Chicago:20251230T235959
RRULE:FREQ=YEARLY;COUNT=3;INTERVAL=1
SUMMARY:December 30th This Day in Missouri
URL:https://taneycountyrepublicans.org.patriotsaroundthelake.com/odds-n-end
 s/this-week-in-missouri/24-this-day-in-missouri/2376-december-30th-this-da
 y-in-missouri.html
X-ALT-DESC;FMTTYPE=TEXT/HTML:<p><span style='font-family: arial\, helvetica
 \, sans-serif\; font-size: 12pt\; color: #000000\;'>On December 30\, the f
 ollowing notable historical events related to Missouri occurred:</span></p
 >\n<ul>\n<li><span style='font-family: arial\, helvetica\, sans-serif\; fo
 nt-size: 12pt\; color: #000000\;'>1806: Zebulon Pike’s expedition\, launch
 ed from St. Louis to explore the southern Louisiana Purchase\, continued i
 ts journey along the Arkansas River\, though no specific Missouri activity
  is recorded for this date\, likely due to the post-Christmas slowdown.</s
 pan></li>\n<li><span style='font-family: arial\, helvetica\, sans-serif\; 
 font-size: 12pt\; color: #000000\;'>1856: During the “Bleeding Kansas” con
 flict\, pro-slavery “Border Ruffians” from Missouri raided Kansas anti-sla
 very settlements\, escalating violent disputes over the territory’s slaver
 y status\, though activities may have been quieter during the holiday seas
 on.</span></li>\n<li><span style='font-family: arial\, helvetica\, sans-se
 rif\; font-size: 12pt\; color: #000000\;'>1861: In the Civil War\, Union G
 eneral Henry W. Halleck\, based in St. Louis\, reinforced federal defenses
 \, while Confederate guerrilla raids in rural Missouri likely resumed post
 -Christmas\, deepening the state’s internal divisions.</span></li>\n<li><s
 pan style='font-family: arial\, helvetica\, sans-serif\; font-size: 12pt\;
  color: #000000\;'>1864: Following Confederate General Sterling Price’s fa
 iled Missouri campaign\, his forces\, including Missouri troops\, were reg
 rouping in Arkansas after October defeats\, with minimal logistical activi
 ty likely due to the holiday period.</span></li>\n<li><span style='font-fa
 mily: arial\, helvetica\, sans-serif\; font-size: 12pt\; color: #000000\;'
 >1888: The Missouri Pacific Railroad extended its southeast Missouri netwo
 rk\, connecting towns like Cape Girardeau to national markets\, driving ec
 onomic growth\, though operations likely slowed during the holiday season.
 </span></li>\n<li><span style='font-family: arial\, helvetica\, sans-serif
 \; font-size: 12pt\; color: #000000\;'>1929: The Great Depression ravaged 
 Missouri\, with Kansas City and St. Louis facing mass unemployment and bus
 iness closures\, while post-Christmas relief efforts sought to mitigate wi
 despread economic hardship.</span></li>\n<li><span style='font-family: ari
 al\, helvetica\, sans-serif\; font-size: 12pt\; color: #000000\;'>1941: Mi
 ssouri communities\, including St. Louis and Kansas City\, intensified Wor
 ld War II mobilization post-Pearl Harbor\, with local factories resuming w
 ar production and recruitment efforts accelerating after the Christmas sea
 son.</span></li>\n</ul>
END:VEVENT
END:VCALENDAR
