BEGIN:VCALENDAR
VERSION:2.0
PRODID:-//https://taneycountyrepublicans.org.patriotsaroundthelake.com//NONSGML kigkonsult.se iCalcreator 2.41.71//
CALSCALE:GREGORIAN
METHOD:PUBLISH
UID:61656362-3639-4163-a433-633536376138
X-WR-CALNAME:JCal Pro Calendar
X-WR-CALDESC:Your online events calendar
X-WR-TIMEZONE:America/Chicago
BEGIN:VTIMEZONE
TZID:America/Chicago
TZUNTIL:20271107T070000Z
BEGIN:STANDARD
TZNAME:CST
DTSTART:20251102T020000
TZOFFSETFROM:-0500
TZOFFSETTO:-0600
RDATE:20261101T020000
END:STANDARD
BEGIN:DAYLIGHT
TZNAME:CDT
DTSTART:20260308T020000
TZOFFSETFROM:-0600
TZOFFSETTO:-0500
RDATE:20270314T020000
END:DAYLIGHT
END:VTIMEZONE
BEGIN:VEVENT
UID:20250625T000000UTC-2986wrERZZ@https://taneycountyrepublicans.org/
DTSTAMP:20260425T035123Z
CATEGORIES:This Day in Missouri
DESCRIPTION:<p><span style='font-family: arial\, helvetica\, sans-serif\; f
 ont-size: 12pt\; color: #000000\;'>On June 25\, the following notable hist
 orical events related to Missouri have been recorded:</span></p>\n<ul>\n<l
 i><span style='font-family: arial\, helvetica\, sans-serif\; font-size: 12
 pt\; color: #000000\;'>1824: The town of Hannibal\, Missouri\, was officia
 lly laid out. This date marks the beginning of Hannibal’s development\, la
 ter famous as the hometown of Mark Twain and the inspiration for settings 
 in his novels Tom Sawyer and Huckleberry Finn.</span></li>\n<li><span styl
 e='font-family: arial\, helvetica\, sans-serif\; font-size: 12pt\; color: 
 #000000\;'>1864: During the Civil War\, Missouri continued to experience g
 uerrilla warfare. On or around June 25\, Confederate bushwhackers\, includ
 ing those associated with William Quantrill\, were active in raids across 
 rural Missouri\, contributing to the state’s ongoing turmoil.</span></li>
 \n<li><span style='font-family: arial\, helvetica\, sans-serif\; font-size
 : 12pt\; color: #000000\;'>1910: The Aero Club of St. Louis hosted one of 
 the first major air shows in the United States\, held at Forest Park. On J
 une 25\, aviation demonstrations drew large crowds\, showcasing Missouri’s
  early involvement in the aviation industry.</span></li>\n</ul>
DTSTART;TZID=America/Chicago:20250625T000000
DTEND;TZID=America/Chicago:20250625T235959
RRULE:FREQ=YEARLY;COUNT=3;INTERVAL=1
SUMMARY:June 25th This Day in Missouri
URL:https://taneycountyrepublicans.org.patriotsaroundthelake.com/odds-n-end
 s/this-week-in-missouri/24-this-day-in-missouri/1627-june-25th-this-day-in
 -missouri.html
X-ALT-DESC;FMTTYPE=TEXT/HTML:<p><span style='font-family: arial\, helvetica
 \, sans-serif\; font-size: 12pt\; color: #000000\;'>On June 25\, the follo
 wing notable historical events related to Missouri have been recorded:</sp
 an></p>\n<ul>\n<li><span style='font-family: arial\, helvetica\, sans-seri
 f\; font-size: 12pt\; color: #000000\;'>1824: The town of Hannibal\, Misso
 uri\, was officially laid out. This date marks the beginning of Hannibal’s
  development\, later famous as the hometown of Mark Twain and the inspirat
 ion for settings in his novels Tom Sawyer and Huckleberry Finn.</span></li
 >\n<li><span style='font-family: arial\, helvetica\, sans-serif\; font-siz
 e: 12pt\; color: #000000\;'>1864: During the Civil War\, Missouri continue
 d to experience guerrilla warfare. On or around June 25\, Confederate bush
 whackers\, including those associated with William Quantrill\, were active
  in raids across rural Missouri\, contributing to the state’s ongoing turm
 oil.</span></li>\n<li><span style='font-family: arial\, helvetica\, sans-s
 erif\; font-size: 12pt\; color: #000000\;'>1910: The Aero Club of St. Loui
 s hosted one of the first major air shows in the United States\, held at F
 orest Park. On June 25\, aviation demonstrations drew large crowds\, showc
 asing Missouri’s early involvement in the aviation industry.</span></li>\n
 </ul>
END:VEVENT
END:VCALENDAR
