BEGIN:VCALENDAR
VERSION:2.0
PRODID:-//https://taneycountyrepublicans.org.patriotsaroundthelake.com//NONSGML kigkonsult.se iCalcreator 2.41.71//
CALSCALE:GREGORIAN
METHOD:PUBLISH
UID:37356165-6561-4432-a335-333063313935
X-WR-CALNAME:JCal Pro Calendar
X-WR-CALDESC:Your online events calendar
X-WR-TIMEZONE:America/Chicago
BEGIN:VTIMEZONE
TZID:America/Chicago
TZUNTIL:20271107T070000Z
BEGIN:STANDARD
TZNAME:CST
DTSTART:20251102T020000
TZOFFSETFROM:-0500
TZOFFSETTO:-0600
RDATE:20261101T020000
END:STANDARD
BEGIN:DAYLIGHT
TZNAME:CDT
DTSTART:20260308T020000
TZOFFSETFROM:-0600
TZOFFSETTO:-0500
RDATE:20270314T020000
END:DAYLIGHT
END:VTIMEZONE
BEGIN:VEVENT
UID:20250626T000000UTC-4373kOvHVA@https://taneycountyrepublicans.org/
DTSTAMP:20260425T022850Z
CATEGORIES:This Day in Missouri
DESCRIPTION:<p><span style='font-family: arial\, helvetica\, sans-serif\; f
 ont-size: 12pt\; color: #000000\;'>On June 26\, the following notable hist
 orical events related to Missouri have been recorded:</span></p>\n<ul>\n<l
 i><span style='font-family: arial\, helvetica\, sans-serif\; font-size: 12
 pt\; color: #000000\;'>1834: The steamboat Othello exploded on the Missour
 i River near Jefferson City\, killing several passengers and crew. This di
 saster highlighted the dangers of early steamboat travel\, a critical mode
  of transportation in Missouri at the time.</span></li>\n<li><span style='
 font-family: arial\, helvetica\, sans-serif\; font-size: 12pt\; color: #00
 0000\;'>1861: During the Civil War\, Missouri was a hotbed of conflict. Wh
 ile no specific battle is tied to June 26\, this date falls within the per
 iod of intense militia activity\, with Union forces under General Nathanie
 l Lyon consolidating control in St. Louis and other key areas amid ongoing
  skirmishes with Confederate sympathizers.</span></li>\n<li><span style='f
 ont-family: arial\, helvetica\, sans-serif\; font-size: 12pt\; color: #000
 000\;'>1904: The St. Louis World’s Fair\, or Louisiana Purchase Exposition
 \, was ongoing\, with June 26 featuring educational exhibits and internati
 onal cultural displays. The fair continued to cement St. Louis as a global
  hub\, drawing thousands to Missouri.</span></li>\n</ul>
DTSTART;TZID=America/Chicago:20250626T000000
DTEND;TZID=America/Chicago:20250626T235959
RRULE:FREQ=YEARLY;COUNT=3;INTERVAL=1
SUMMARY:June 26th This Day in Missouri
URL:https://taneycountyrepublicans.org.patriotsaroundthelake.com/odds-n-end
 s/this-week-in-missouri/24-this-day-in-missouri/1634-june-26th-this-day-in
 -missouri.html
X-ALT-DESC;FMTTYPE=TEXT/HTML:<p><span style='font-family: arial\, helvetica
 \, sans-serif\; font-size: 12pt\; color: #000000\;'>On June 26\, the follo
 wing notable historical events related to Missouri have been recorded:</sp
 an></p>\n<ul>\n<li><span style='font-family: arial\, helvetica\, sans-seri
 f\; font-size: 12pt\; color: #000000\;'>1834: The steamboat Othello explod
 ed on the Missouri River near Jefferson City\, killing several passengers 
 and crew. This disaster highlighted the dangers of early steamboat travel\
 , a critical mode of transportation in Missouri at the time.</span></li>\n
 <li><span style='font-family: arial\, helvetica\, sans-serif\; font-size: 
 12pt\; color: #000000\;'>1861: During the Civil War\, Missouri was a hotbe
 d of conflict. While no specific battle is tied to June 26\, this date fal
 ls within the period of intense militia activity\, with Union forces under
  General Nathaniel Lyon consolidating control in St. Louis and other key a
 reas amid ongoing skirmishes with Confederate sympathizers.</span></li>\n<
 li><span style='font-family: arial\, helvetica\, sans-serif\; font-size: 1
 2pt\; color: #000000\;'>1904: The St. Louis World’s Fair\, or Louisiana Pu
 rchase Exposition\, was ongoing\, with June 26 featuring educational exhib
 its and international cultural displays. The fair continued to cement St. 
 Louis as a global hub\, drawing thousands to Missouri.</span></li>\n</ul>
END:VEVENT
END:VCALENDAR
