BEGIN:VCALENDAR
VERSION:2.0
PRODID:-//https://taneycountyrepublicans.org.patriotsaroundthelake.com//NONSGML kigkonsult.se iCalcreator 2.41.71//
CALSCALE:GREGORIAN
METHOD:PUBLISH
UID:37303534-6263-4864-b531-643933376539
X-WR-CALNAME:JCal Pro Calendar
X-WR-CALDESC:Your online events calendar
X-WR-TIMEZONE:America/Chicago
BEGIN:VTIMEZONE
TZID:America/Chicago
TZUNTIL:20271107T070000Z
BEGIN:STANDARD
TZNAME:CST
DTSTART:20251102T020000
TZOFFSETFROM:-0500
TZOFFSETTO:-0600
RDATE:20261101T020000
END:STANDARD
BEGIN:DAYLIGHT
TZNAME:CDT
DTSTART:20260308T020000
TZOFFSETFROM:-0600
TZOFFSETTO:-0500
RDATE:20270314T020000
END:DAYLIGHT
END:VTIMEZONE
BEGIN:VEVENT
UID:20250710T000000UTC-6068SROW7C@https://taneycountyrepublicans.org/
DTSTAMP:20260425T035448Z
CATEGORIES:This Day in Missouri
DESCRIPTION:<p><span style='font-family: arial\, helvetica\, sans-serif\; f
 ont-size: 12pt\; color: #000000\;'>On July 10\, the following notable hist
 orical events related to Missouri have been recorded:</span></p>\n<ul>\n<l
 i><span style='font-family: arial\, helvetica\, sans-serif\; font-size: 12
 pt\; color: #000000\;'>1804: The Lewis and Clark Expedition continued alon
 g the Missouri River\, camping near present-day Holt County\, Missouri\, o
 n or around July 10. They documented the area’s geography and interactions
  with local Native American tribes\, advancing their exploration of the Lo
 uisiana Purchase.</span></li>\n<li><span style='font-family: arial\, helve
 tica\, sans-serif\; font-size: 12pt\; color: #000000\;'>1838: Tensions in 
 the Mormon War in Missouri were escalating. On or around July 10\, non-Mor
 mon residents in Daviess County began organizing against Mormon settlers\,
  setting the stage for violent clashes that led to Governor Lilburn Boggs’
  expulsion order later that year.</span></li>\n<li><span style='font-famil
 y: arial\, helvetica\, sans-serif\; font-size: 12pt\; color: #000000\;'>18
 61: During the Civil War\, Missouri was a battleground for Union and Confe
 derate forces. On July 10\, Union troops under General Nathaniel Lyon were
  maneuvering in southwest Missouri\, engaging in minor skirmishes near Spr
 ingfield as they prepared for the Battle of Wilson’s Creek.</span></li>\n<
 li><span style='font-family: arial\, helvetica\, sans-serif\; font-size: 1
 2pt\; color: #000000\;'>1870: The St. Louis-based Anheuser-Busch brewery b
 egan experimenting with refrigerated railcars around July 10\, a breakthro
 ugh that allowed Budweiser to be shipped nationally\, solidifying Missouri
 ’s role in the brewing industry.</span></li>\n<li><span style='font-family
 : arial\, helvetica\, sans-serif\; font-size: 12pt\; color: #000000\;'>196
 5: The Gateway Arch in St. Louis\, under construction at the time\, saw si
 gnificant progress around July 10\, with workers completing key sections o
 f the structure. This marked a milestone in creating Missouri’s iconic mon
 ument.</span></li>\n</ul>
DTSTART;TZID=America/Chicago:20250710T000000
DTEND;TZID=America/Chicago:20250710T235959
RRULE:FREQ=YEARLY;COUNT=3;INTERVAL=1
SUMMARY:July 10th This Day in Missouri
URL:https://taneycountyrepublicans.org.patriotsaroundthelake.com/odds-n-end
 s/this-week-in-missouri/24-this-day-in-missouri/1682-july-10th-this-day-in
 -missouri.html
X-ALT-DESC;FMTTYPE=TEXT/HTML:<p><span style='font-family: arial\, helvetica
 \, sans-serif\; font-size: 12pt\; color: #000000\;'>On July 10\, the follo
 wing notable historical events related to Missouri have been recorded:</sp
 an></p>\n<ul>\n<li><span style='font-family: arial\, helvetica\, sans-seri
 f\; font-size: 12pt\; color: #000000\;'>1804: The Lewis and Clark Expediti
 on continued along the Missouri River\, camping near present-day Holt Coun
 ty\, Missouri\, on or around July 10. They documented the area’s geography
  and interactions with local Native American tribes\, advancing their expl
 oration of the Louisiana Purchase.</span></li>\n<li><span style='font-fami
 ly: arial\, helvetica\, sans-serif\; font-size: 12pt\; color: #000000\;'>1
 838: Tensions in the Mormon War in Missouri were escalating. On or around 
 July 10\, non-Mormon residents in Daviess County began organizing against 
 Mormon settlers\, setting the stage for violent clashes that led to Govern
 or Lilburn Boggs’ expulsion order later that year.</span></li>\n<li><span 
 style='font-family: arial\, helvetica\, sans-serif\; font-size: 12pt\; col
 or: #000000\;'>1861: During the Civil War\, Missouri was a battleground fo
 r Union and Confederate forces. On July 10\, Union troops under General Na
 thaniel Lyon were maneuvering in southwest Missouri\, engaging in minor sk
 irmishes near Springfield as they prepared for the Battle of Wilson’s Cree
 k.</span></li>\n<li><span style='font-family: arial\, helvetica\, sans-ser
 if\; font-size: 12pt\; color: #000000\;'>1870: The St. Louis-based Anheuse
 r-Busch brewery began experimenting with refrigerated railcars around July
  10\, a breakthrough that allowed Budweiser to be shipped nationally\, sol
 idifying Missouri’s role in the brewing industry.</span></li>\n<li><span s
 tyle='font-family: arial\, helvetica\, sans-serif\; font-size: 12pt\; colo
 r: #000000\;'>1965: The Gateway Arch in St. Louis\, under construction at 
 the time\, saw significant progress around July 10\, with workers completi
 ng key sections of the structure. This marked a milestone in creating Miss
 ouri’s iconic monument.</span></li>\n</ul>
END:VEVENT
END:VCALENDAR
