BEGIN:VCALENDAR
VERSION:2.0
PRODID:-//https://taneycountyrepublicans.org.patriotsaroundthelake.com//NONSGML kigkonsult.se iCalcreator 2.41.71//
CALSCALE:GREGORIAN
METHOD:PUBLISH
UID:62623664-3964-4730-a639-333438353936
X-WR-CALNAME:JCal Pro Calendar
X-WR-CALDESC:Your online events calendar
X-WR-TIMEZONE:America/Chicago
BEGIN:VTIMEZONE
TZID:America/Chicago
TZUNTIL:20271107T070000Z
BEGIN:STANDARD
TZNAME:CST
DTSTART:20251102T020000
TZOFFSETFROM:-0500
TZOFFSETTO:-0600
RDATE:20261101T020000
END:STANDARD
BEGIN:DAYLIGHT
TZNAME:CDT
DTSTART:20260308T020000
TZOFFSETFROM:-0600
TZOFFSETTO:-0500
RDATE:20270314T020000
END:DAYLIGHT
END:VTIMEZONE
BEGIN:VEVENT
UID:20250724T000000UTC-9234dfB6J5@https://taneycountyrepublicans.org/
DTSTAMP:20260425T035449Z
CATEGORIES:This Day in Missouri
DESCRIPTION:<p><span style='font-family: arial\, helvetica\, sans-serif\; f
 ont-size: 12pt\; color: #000000\;'>On July 24\, the following notable hist
 orical events related to Missouri have been recorded:</span></p>\n<ul>\n<l
 i><span style='font-family: arial\, helvetica\, sans-serif\; font-size: 12
 pt\; color: #000000\;'>1804: The Lewis and Clark Expedition\, navigating t
 he Missouri River\, was near present-day Otoe County\, Nebraska\, across f
 rom Missouri’s Atchison County\, on or around July 24. They continued docu
 menting the region’s geography and interactions with Otoe and Missouri tri
 bes\, advancing their exploration of the Louisiana Purchase.</span></li>\n
 <li><span style='font-family: arial\, helvetica\, sans-serif\; font-size: 
 12pt\; color: #000000\;'>1838: During the Mormon War in Missouri\, conflic
 ts intensified. On or around July 24\, non-Mormon vigilantes in Carroll an
 d Daviess Counties escalated attacks on Mormon settlers\, contributing to 
 the growing violence that led to the Mormon expulsion order later in 1838.
 </span></li>\n<li><span style='font-family: arial\, helvetica\, sans-serif
 \; font-size: 12pt\; color: #000000\;'>1861: During the Civil War\, Missou
 ri saw ongoing skirmishes. On July 24\, Union forces under General Nathani
 el Lyon were active in southwest Missouri\, engaging in minor clashes near
  Springfield as they prepared for the Battle of Wilson’s Creek.</span></li
 >\n<li><span style='font-family: arial\, helvetica\, sans-serif\; font-siz
 e: 12pt\; color: #000000\;'>1871: The Missouri\, Kansas\, and Texas Railwa
 y (Katy Railroad) expanded its network through southwest Missouri around J
 uly 24\, connecting Springfield to other regions and boosting economic gro
 wth in the state.</span></li>\n<li><span style='font-family: arial\, helve
 tica\, sans-serif\; font-size: 12pt\; color: #000000\;'>1904: The St. Loui
 s World’s Fair\, or Louisiana Purchase Exposition\, was ongoing\, with Jul
 y 24 featuring international agricultural exhibits and early Olympic event
 s\, highlighting Missouri’s global cultural and economic prominence.</span
 ></li>\n<li><span style='font-family: arial\, helvetica\, sans-serif\; fon
 t-size: 12pt\; color: #000000\;'>1935: The Dust Bowl’s impact was felt in 
 Missouri\, with severe dust storms reported in western Missouri around Jul
 y 24. These storms damaged crops and underscored the state’s agricultural 
 challenges during the Great Depression.</span></li>\n</ul>
DTSTART;TZID=America/Chicago:20250724T000000
DTEND;TZID=America/Chicago:20250724T235959
RRULE:FREQ=YEARLY;COUNT=3;INTERVAL=1
SUMMARY:July 24th This Day in Missouri
URL:https://taneycountyrepublicans.org.patriotsaroundthelake.com/odds-n-end
 s/this-week-in-missouri/24-this-day-in-missouri/1729-july-24th-this-day-in
 -missouri.html
X-ALT-DESC;FMTTYPE=TEXT/HTML:<p><span style='font-family: arial\, helvetica
 \, sans-serif\; font-size: 12pt\; color: #000000\;'>On July 24\, the follo
 wing notable historical events related to Missouri have been recorded:</sp
 an></p>\n<ul>\n<li><span style='font-family: arial\, helvetica\, sans-seri
 f\; font-size: 12pt\; color: #000000\;'>1804: The Lewis and Clark Expediti
 on\, navigating the Missouri River\, was near present-day Otoe County\, Ne
 braska\, across from Missouri’s Atchison County\, on or around July 24. Th
 ey continued documenting the region’s geography and interactions with Otoe
  and Missouri tribes\, advancing their exploration of the Louisiana Purcha
 se.</span></li>\n<li><span style='font-family: arial\, helvetica\, sans-se
 rif\; font-size: 12pt\; color: #000000\;'>1838: During the Mormon War in M
 issouri\, conflicts intensified. On or around July 24\, non-Mormon vigilan
 tes in Carroll and Daviess Counties escalated attacks on Mormon settlers\,
  contributing to the growing violence that led to the Mormon expulsion ord
 er later in 1838.</span></li>\n<li><span style='font-family: arial\, helve
 tica\, sans-serif\; font-size: 12pt\; color: #000000\;'>1861: During the C
 ivil War\, Missouri saw ongoing skirmishes. On July 24\, Union forces unde
 r General Nathaniel Lyon were active in southwest Missouri\, engaging in m
 inor clashes near Springfield as they prepared for the Battle of Wilson’s 
 Creek.</span></li>\n<li><span style='font-family: arial\, helvetica\, sans
 -serif\; font-size: 12pt\; color: #000000\;'>1871: The Missouri\, Kansas\,
  and Texas Railway (Katy Railroad) expanded its network through southwest 
 Missouri around July 24\, connecting Springfield to other regions and boos
 ting economic growth in the state.</span></li>\n<li><span style='font-fami
 ly: arial\, helvetica\, sans-serif\; font-size: 12pt\; color: #000000\;'>1
 904: The St. Louis World’s Fair\, or Louisiana Purchase Exposition\, was o
 ngoing\, with July 24 featuring international agricultural exhibits and ea
 rly Olympic events\, highlighting Missouri’s global cultural and economic 
 prominence.</span></li>\n<li><span style='font-family: arial\, helvetica\,
  sans-serif\; font-size: 12pt\; color: #000000\;'>1935: The Dust Bowl’s im
 pact was felt in Missouri\, with severe dust storms reported in western Mi
 ssouri around July 24. These storms damaged crops and underscored the stat
 e’s agricultural challenges during the Great Depression.</span></li>\n</ul
 >
END:VEVENT
END:VCALENDAR
